
BEGIN:VCALENDAR
VERSION:2.0
PRODID:-//Single-Meet-Single - ECPv6.2.2//NONSGML v1.0//EN
CALSCALE:GREGORIAN
METHOD:PUBLISH
X-ORIGINAL-URL:https://singlemeetsingle.nl
X-WR-CALDESC:Evenementen voor Single-Meet-Single
REFRESH-INTERVAL;VALUE=DURATION:PT1H
X-Robots-Tag:noindex
X-PUBLISHED-TTL:PT1H
BEGIN:VTIMEZONE
TZID:Europe/Helsinki
BEGIN:DAYLIGHT
TZOFFSETFROM:+0200
TZOFFSETTO:+0300
TZNAME:EEST
DTSTART:20260329T010000
END:DAYLIGHT
BEGIN:STANDARD
TZOFFSETFROM:+0300
TZOFFSETTO:+0200
TZNAME:EET
DTSTART:20261025T010000
END:STANDARD
END:VTIMEZONE
BEGIN:VEVENT
DTSTART;TZID=Europe/Helsinki:20260221T200000
DTEND;TZID=Europe/Helsinki:20260222T010000
DTSTAMP:20260423T163653
CREATED:20251023T090145Z
LAST-MODIFIED:20251231T144356Z
UID:10000122-1771704000-1771722000@singlemeetsingle.nl
SUMMARY:Single Meet Single Party Groningen 21-2-2026
DESCRIPTION:Single Meet Single Party Groningen 21-2-2026 80’s\, 90’s\, 00’s till now  \n\nDatum: Zaterdag 21 Februari 2026\nTijd: 20:00-01:00\nConcept: 80’s\, 90’s\, 00’s till now\nLocatie: De Huiskamer\nAdres: Suikerlaan 18\, 9743 DA\, Groningen\nLeeftijd: Toegang voor singles vanaf 30 jaar tot ver daarboven\nTickets: \nEarly Bird: € 13\,50 (Uitverkocht)\nRegular: € 16\,00\nAan de deur € 20\,00\n Fee: € 1\,50\nLedenkorting: \nDit feest is voor iedere single toegankelijk maar geldt er een korting van €2\,50 voor full member leden. Log in als lid en bestel dan je tickets en druk op de button “ik ga” en geniet samen met andere leden van dit evenement. Gezellig toch!!\n\nParkeren: Gratis voor de deur \nSFEERIMPRESSIE: https://singlemeetsingle.nl/single-meet-single-platform/foto-videos/ \n \n  \nWat kun je verwachten \nSingle Meet Single terug bij ”De Huiskamer” met het gezelligste single feest van Groningen en omstreken. Op deze prachtige locatie zorgt onze top DJ voor spetterend vuurwerk op de dansvloer. Ervaar de geweldige sfeer en geniet van alle danceable hits uit de 80’s\, 90’s\, 00’s till now. Qua muziek draaien we zeker niet alleen de bekende disco hits\, maar ook funk\, groove en een vleugje house. Ontmoet de leukste singles van Groningen en omstreken en geniet van de lekkerste hits! \nGa of ben je geïnteresseerd in dit evenement laat dit dan weten via Facebook: \nKortom\, koop nu je ticket en je bent gegarandeerd van een complete avond uit en een fantastisch singlefeest!  \nP.S: Ben je single en wil je niet alleen naar dit feest\, dan is het toegestaan tegen betaling een vriend of vriendin die geen single is mee te nemen. Deze singleparty is niet gericht op dating maar een leuke avond voor gelijkgestemden.
URL:https://singlemeetsingle.nl/activiteit/single-meet-single-party-groningen-21-2-2026/
LOCATION:De Huiskamer\, Suikerlaan 18\, Groningen\, Groningen\, 9743 DA\, Nederland
CATEGORIES:Dansen en uitgaan
ATTACH;FMTTYPE=image/png:https://singlemeetsingle.nl/wp-content/uploads/2025/10/2026-02-21-Groningen_facebook-event.png
GEO:53.2102566;6.5378925
X-APPLE-STRUCTURED-LOCATION;VALUE=URI;X-ADDRESS=De Huiskamer Suikerlaan 18 Groningen Groningen 9743 DA Nederland;X-APPLE-RADIUS=500;X-TITLE=Suikerlaan 18:geo:6.5378925,53.2102566
END:VEVENT
END:VCALENDAR