
BEGIN:VCALENDAR
VERSION:2.0
PRODID:-//Single-Meet-Single - ECPv6.2.2//NONSGML v1.0//EN
CALSCALE:GREGORIAN
METHOD:PUBLISH
X-WR-CALNAME:Single-Meet-Single
X-ORIGINAL-URL:https://singlemeetsingle.nl
X-WR-CALDESC:Evenementen voor Single-Meet-Single
REFRESH-INTERVAL;VALUE=DURATION:PT1H
X-Robots-Tag:noindex
X-PUBLISHED-TTL:PT1H
BEGIN:VTIMEZONE
TZID:Europe/Helsinki
BEGIN:DAYLIGHT
TZOFFSETFROM:+0200
TZOFFSETTO:+0300
TZNAME:EEST
DTSTART:20240331T010000
END:DAYLIGHT
BEGIN:STANDARD
TZOFFSETFROM:+0300
TZOFFSETTO:+0200
TZNAME:EET
DTSTART:20241027T010000
END:STANDARD
END:VTIMEZONE
BEGIN:VEVENT
DTSTART;TZID=Europe/Helsinki:20241012T200000
DTEND;TZID=Europe/Helsinki:20241013T010000
DTSTAMP:20260425T065540
CREATED:20240604T112230Z
LAST-MODIFIED:20241007T114207Z
UID:10000064-1728763200-1728781200@singlemeetsingle.nl
SUMMARY:Single Meet Single Party Arnhem/Velp 12-10-2024
DESCRIPTION:Single Meet Single Party – 80’s\, 90’s\, 00’s till now – Arnhem/Velp 12-10-2024 \n\nDatum: Zaterdag 12 oktober 2024\nTijd: 20:00-01:00\nConcept: 80’s\, 90’s\, 00’s till now\nLocatie: Venue13 – Velp\nAdres: Kastanjelaan 13\, 6883 HZ\, Velp\nLeeftijd: Toegang voor singles vanaf 30 jaar tot ver daarboven\nTickets: \nEarly Bird: € 12\,50 (Uitverkocht)\nRegular: € 15\,00\nAan de deur € 17\,50\n Fee: € 1\,00\nLedenkorting: Dit feest is voor iedere single toegankelijk maar geldt er een korting van €2\,50 voor full member leden. Log in als lid en bestel dan je tickets en druk op de button “ik ga” en geniet samen met andere leden van dit evenement. Gezellig toch!!\nSfeerimpressie: https://singlemeetsingle.nl/single-meet-single-platform/foto-videos/\n\n \nWat kun je verwachten \nNa onze succesvolle laatste editie is Single Meet Single terug bij Venue 13 in Velp op zaterdag 12 oktober 2024. Vanaf 20.00 uur is iedere single van 30 jaar en veel ouder van harte welkom op deze prachtige locatie. Ervaar de geweldige sfeer en geniet van alle danceable hits uit de 80’s\, 90’s\, 00’s till now. Qua muziek draaien we zeker niet alleen de bekende disco hits\, maar ook funk\, groove en een vleugje house. Ontmoet ook de leukste singles van Arnhem en omstreken en geniet van de lekkerste hits! \nKortom\, koop nu je ticket en je bent gegarandeerd van een complete avond uit en een fantastisch singlefeest! We zien je graag op zaterdag 12 oktober. \nP.S: Ben je single en wil je niet alleen naar dit feest\, dan is het toegestaan een vriend of vriendin die geen single is mee te nemen. Deze singleparty is niet gericht op dating maar een leuke avond voor gelijkgestemden. \nParkeren: Parkeren: Gratis parkeren openbaar in de naaste omgeving
URL:https://singlemeetsingle.nl/activiteit/single-meet-single-party-arnhem-velp-12-10-2024/
LOCATION:Venue 13\, Kastanjelaan 13\, Velp\, 6883 HZ\, Nederland
CATEGORIES:Dansen en uitgaan
ATTACH;FMTTYPE=image/png:https://singlemeetsingle.nl/wp-content/uploads/2024/06/image-80.png
GEO:51.9943126;5.9802853
X-APPLE-STRUCTURED-LOCATION;VALUE=URI;X-ADDRESS=Venue 13 Kastanjelaan 13 Velp 6883 HZ Nederland;X-APPLE-RADIUS=500;X-TITLE=Kastanjelaan 13:geo:5.9802853,51.9943126
END:VEVENT
END:VCALENDAR