
BEGIN:VCALENDAR
VERSION:2.0
PRODID:-//Single-Meet-Single - ECPv6.2.2//NONSGML v1.0//EN
CALSCALE:GREGORIAN
METHOD:PUBLISH
X-WR-CALNAME:Single-Meet-Single
X-ORIGINAL-URL:https://singlemeetsingle.nl
X-WR-CALDESC:Evenementen voor Single-Meet-Single
REFRESH-INTERVAL;VALUE=DURATION:PT1H
X-Robots-Tag:noindex
X-PUBLISHED-TTL:PT1H
BEGIN:VTIMEZONE
TZID:Europe/Helsinki
BEGIN:DAYLIGHT
TZOFFSETFROM:+0200
TZOFFSETTO:+0300
TZNAME:EEST
DTSTART:20240331T010000
END:DAYLIGHT
BEGIN:STANDARD
TZOFFSETFROM:+0300
TZOFFSETTO:+0200
TZNAME:EET
DTSTART:20241027T010000
END:STANDARD
END:VTIMEZONE
BEGIN:VEVENT
DTSTART;TZID=Europe/Helsinki:20240525T200000
DTEND;TZID=Europe/Helsinki:20240526T010000
DTSTAMP:20260425T152009
CREATED:20240123T125705Z
LAST-MODIFIED:20240930T151008Z
UID:10000055-1716667200-1716685200@singlemeetsingle.nl
SUMMARY:Single Meet Single Party Groningen
DESCRIPTION:Single Meet Single Party – 80’s\, 90’s\, 00’s till now – Groningen \n\nDatum: Zaterdag 25 mei 2024\nTijd: 20:00-01:00\nConcept: 80’s\, 90’s\, 00’s till now\nLocatie: Puddingfabriek \nAdres: Viaductstraat 3\, 9725 BG\, Groningen\nLeeftijd: Toegang voor singles vanaf 30 jaar tot ver daarboven\nTickets: \nEarly Bird: € 12\,50(Uitverkocht)\nRegular: € 15\,00\nAan de deur € 17\,50\n Fee: € 1\,00\nLedenkorting: \nDit feest is voor iedere single toegankelijk maar geldt er een korting van €2\,50 voor full member leden. Log in als lid en bestel dan je tickets en druk op de button “ik ga” en geniet samen met andere leden van dit evenement. Gezellig toch!!\n\nParkeren: Gratis vanaf 18.00 uur in de directe omgeving of betaald in parkeergarage Oosterpoort of Rademarkt\, 8 min lopen. \nPROMOCLIP: https://youtu.be/Nx0d5d28o0Q?si=_CShDafv3fSG00kX \nSFEERIMPRESSIE: https://singlemeetsingle.nl/single-meet-single-platform/foto-videos/ \nWat kun je verwachten \nNa de uitverkochte new year party zijn we weer terug in de Puddingfabriek met het gezelligste single feest van Groningen en omstreken. Op deze prachtige locatie zorgt onze top DJ voor spetterend vuurwerk op de dansvloer. Ervaar de geweldige sfeer en geniet van alle danceable hits uit de 80’s\, 90’s\, 00’s till now. Qua muziek draaien we zeker niet alleen de bekende disco hits\, maar ook funk\, groove en een vleugje house. Ontmoet de leukste singles van Groningen en omstreken en geniet van de lekkerste hits! \nKortom\, koop nu je ticket en je bent gegarandeerd van een complete avond uit en een fantastisch singlefeest! We zien je graag op zaterdag 25 mei \nP.S: Ben je single en wil je niet alleen naar dit feest\, dan is het toegestaan een vriend of vriendin die geen single is mee te nemen. Deze singleparty is niet gericht op dating maar een leuke avond voor gelijkgestemden.
URL:https://singlemeetsingle.nl/activiteit/single-meet-single-party-groningen/
LOCATION:Puddingfabriek\, Viaductstraat 3\, Groningen\, groningen\, 9725 BG\, Nederland
CATEGORIES:Dansen en uitgaan
ATTACH;FMTTYPE=image/png:https://singlemeetsingle.nl/wp-content/uploads/2024/01/single-meet-single-party-groningen.png
GEO:53.2103456;6.5709269
X-APPLE-STRUCTURED-LOCATION;VALUE=URI;X-ADDRESS=Puddingfabriek Viaductstraat 3 Groningen groningen 9725 BG Nederland;X-APPLE-RADIUS=500;X-TITLE=Viaductstraat 3:geo:6.5709269,53.2103456
END:VEVENT
END:VCALENDAR