
BEGIN:VCALENDAR
VERSION:2.0
PRODID:-//Single-Meet-Single - ECPv6.2.2//NONSGML v1.0//EN
CALSCALE:GREGORIAN
METHOD:PUBLISH
X-WR-CALNAME:Single-Meet-Single
X-ORIGINAL-URL:https://singlemeetsingle.nl
X-WR-CALDESC:Evenementen voor Single-Meet-Single
REFRESH-INTERVAL;VALUE=DURATION:PT1H
X-Robots-Tag:noindex
X-PUBLISHED-TTL:PT1H
BEGIN:VTIMEZONE
TZID:Europe/Helsinki
BEGIN:DAYLIGHT
TZOFFSETFROM:+0200
TZOFFSETTO:+0300
TZNAME:EEST
DTSTART:20240331T010000
END:DAYLIGHT
BEGIN:STANDARD
TZOFFSETFROM:+0300
TZOFFSETTO:+0200
TZNAME:EET
DTSTART:20241027T010000
END:STANDARD
END:VTIMEZONE
BEGIN:VEVENT
DTSTART;TZID=Europe/Helsinki:20240511T200000
DTEND;TZID=Europe/Helsinki:20240512T010000
DTSTAMP:20260425T150934
CREATED:20240122T110835Z
LAST-MODIFIED:20240930T151008Z
UID:10000054-1715457600-1715475600@singlemeetsingle.nl
SUMMARY:Single Meet Single Party Amersfoort/Leusden
DESCRIPTION:Single Meet Single Party – 80’s\, 90’s\, 00’s till now – Amersfoort/Leusden \n\nDatum: Zaterdag 11 mei 2024\nTijd: 20:00-01:00\nConcept: 80’s\, 90’s\, 00’s till now\nLocatie: Fort 33 – Leusden\nAdres: Bavoortseweg 25\, 3833 BM\, Leusden\nLeeftijd: Toegang voor singles vanaf 30 jaar tot ver daarboven\nTickets: \nEarly Bird: € 12\,50(Uitverkocht)\nRegular: € 15\,00\nAan de deur € 17\,50\n Fee: € 1\,00\nLedenkorting: Dit feest is voor iedere single toegankelijk maar geldt er een korting van €2\,50 voor full member leden. Log in als lid en bestel dan je tickets en druk op de button “ik ga” en geniet samen met andere leden van dit evenement. Gezellig toch!!\nSfeerimpressie: https://singlemeetsingle.nl/single-meet-single-platform/foto-videos/\nPromoclip: https://youtu.be/6VT4ixpRcN8?si=_0Ka9V53MJlvYxMg\n\n Wat kun je verwachten \nHet gezelligste single feest van Amersfoort/Leusden en omstreken brengt je het beste uit de 80’s\, 90’s\, 00’s\, till now. Op deze prachtige locatie zorgt onze top DJ voor spetterend vuurwerk op de dansvloer. Ervaar de geweldige sfeer en geniet van alle danceable hits uit de 80’s\, 90’s\, 00’s till now. Qua muziek draaien we zeker niet alleen de bekende disco hits\, maar ook funk\, groove en een vleugje house. Ontmoet de leukste singles van Amerfoort en omstreken en geniet van de lekkerste hits! \nKortom\, koop nu je ticket en je bent gegarandeerd van een complete avond uit en een fantastisch singlefeest! We zien je graag op zaterdag 11 mei. \nP.S: Ben je single en wil je niet alleen naar dit feest\, dan is het toegestaan een vriend of vriendin die geen single is mee te nemen. Deze singleparty is niet gericht op dating maar een leuke avond voor gelijkgestemden. \nParkeren: Gratis parkeren naast de locatie
URL:https://singlemeetsingle.nl/activiteit/single-meet-single-party-amersfoort-leusden/
LOCATION:Fort 33\, Bavoortseweg 25\, Leusden\, 3833 BM\, Nederland
CATEGORIES:Dansen en uitgaan
ATTACH;FMTTYPE=image/png:https://singlemeetsingle.nl/wp-content/uploads/2024/01/Single-meet-single-party-Amersfoort-Leusden.png
GEO:52.1316469;5.4149857
X-APPLE-STRUCTURED-LOCATION;VALUE=URI;X-ADDRESS=Fort 33 Bavoortseweg 25 Leusden 3833 BM Nederland;X-APPLE-RADIUS=500;X-TITLE=Bavoortseweg 25:geo:5.4149857,52.1316469
END:VEVENT
END:VCALENDAR