
BEGIN:VCALENDAR
VERSION:2.0
PRODID:-//Single-Meet-Single - ECPv6.2.2//NONSGML v1.0//EN
CALSCALE:GREGORIAN
METHOD:PUBLISH
X-WR-CALNAME:Single-Meet-Single
X-ORIGINAL-URL:https://singlemeetsingle.nl
X-WR-CALDESC:Evenementen voor Single-Meet-Single
REFRESH-INTERVAL;VALUE=DURATION:PT1H
X-Robots-Tag:noindex
X-PUBLISHED-TTL:PT1H
BEGIN:VTIMEZONE
TZID:Europe/Helsinki
BEGIN:DAYLIGHT
TZOFFSETFROM:+0200
TZOFFSETTO:+0300
TZNAME:EEST
DTSTART:20240331T010000
END:DAYLIGHT
BEGIN:STANDARD
TZOFFSETFROM:+0300
TZOFFSETTO:+0200
TZNAME:EET
DTSTART:20241027T010000
END:STANDARD
END:VTIMEZONE
BEGIN:VEVENT
DTSTART;TZID=Europe/Helsinki:20240120T200000
DTEND;TZID=Europe/Helsinki:20240121T003000
DTSTAMP:20260425T212555
CREATED:20231010T154534Z
LAST-MODIFIED:20241107T141621Z
UID:10000034-1705780800-1705797000@singlemeetsingle.nl
SUMMARY:Single Meet Single Party Leeuwarden
DESCRIPTION:SINGLE MEET SINGLE PARTY LEEUWARDEN\n\nDatum: Zaterdag 20 januari 2024\nTijd: 20:00-00:30\nConcept: 80\,90\,00\, till now\nLocatie: Saco Velt – Leeuwarden \nAdres: Sacramentsstraat 19\, 8911 GK Leeuwarden\nLeeftijd: Toegang voor singles vanaf 30 jaar tot ver daarboven\nTickets: \nEarly Bird: € 12\,50 – Uitverkocht\nRegular: € 15\,00\nAan de deur € 17\,50\n Fee: € 1\,00\nDit feest is voor iedere single toegankelijk maar geldt er een korting van €2\,50 voor full member leden. Log in als lid en bestel dan je tickets en druk op de button “ik ga” en geniet samen met andere leden van dit evenement. Gezellig toch!!\n\nParkeren: Betaald parkeren tot 22.00 uur parkeerterrein Amelandstraat of in parkeergarage Hoeksterend of Oosterstraat\, 5 min lopen. \nWat kun je verwachten?\nSingle Meet Single presenteert haar Leeuwarder editie op zaterdag 20 januari 2024. Vanaf 20.00 uur is iedere single van 30 jaar en veel ouder van harte welkom op deze prachtige locatie. Ervaar de geweldige sfeer in deze voormalige synagoge\, geniet van alle danceable hits uit 80’s\, 90’s\, 00’s till now. Qua muziek draaien we zeker niet alleen de bekende disco hits\, maar ook funk\, groove en lekkere uptempo nummers. Ontmoet de leukste singles van Leeuwarden en Friesland. Beleef deze spetterende avond en geniet van je drankje en een gratis hapje terwijl je geniet van de lekkerste hits! \nOntmoet de leukste singles in Leeuwarden\nHet gezelligste single feest van Leeuwarden en omstreken brengt je het beste uit de 80’s\, 90’s\, 00’s\, till now. Op deze prachtige locatie zorgt onze top DJ voor spetterend vuurwerk op de dansvloer. Funk\, groove\, disco en een vleugje house\, alle danceable hits komen voorbij. \nTICKETS SINGLE MEET SINGLE PARTY LEEUWARDEN\nEen ticket voor de single meet single party Saco Velt Leeuwarden is hier verkrijgbaar en is inclusief: \n\nToegang tot de single meet single party-Saco Velt-Leeuwarden\nGratis een aantal keren hapjes gedurende de avond\nDansen op de meest danceable hits uit de 80’s\, 90’s\, 00’s\, till now\n\nKortom\, koop nu je ticket en je bent gegarandeerd van een complete avond uit en een fantastisch singlefeest! We zien je graag op zaterdag 20 januari  \nP.S: Ben je single en wil je niet alleen naar dit feest\, dan is het toegestaan een vriend of vriendin die geen single is mee te nemen. Deze singleparty is niet gericht op dating maar een leuke avond voor gelijkgestemden.
URL:https://singlemeetsingle.nl/activiteit/single-meet-single-party-leeuwarden/
LOCATION:Saco Velt\, Sacramentsstraat 19\, Leeuwarden\, Friesland\, 8911 GK
CATEGORIES:Dansen en uitgaan
ATTACH;FMTTYPE=image/png:https://singlemeetsingle.nl/wp-content/uploads/2023/10/2024-01-20-Leeuwarden-promopack_facebook-post.png
GEO:53.2037092;5.7990518
X-APPLE-STRUCTURED-LOCATION;VALUE=URI;X-ADDRESS=Saco Velt Sacramentsstraat 19 Leeuwarden Friesland 8911 GK;X-APPLE-RADIUS=500;X-TITLE=Sacramentsstraat 19:geo:5.7990518,53.2037092
END:VEVENT
END:VCALENDAR