
BEGIN:VCALENDAR
VERSION:2.0
PRODID:-//Single-Meet-Single - ECPv6.2.2//NONSGML v1.0//EN
CALSCALE:GREGORIAN
METHOD:PUBLISH
X-WR-CALNAME:Single-Meet-Single
X-ORIGINAL-URL:https://singlemeetsingle.nl
X-WR-CALDESC:Evenementen voor Single-Meet-Single
REFRESH-INTERVAL;VALUE=DURATION:PT1H
X-Robots-Tag:noindex
X-PUBLISHED-TTL:PT1H
BEGIN:VTIMEZONE
TZID:Europe/Helsinki
BEGIN:DAYLIGHT
TZOFFSETFROM:+0200
TZOFFSETTO:+0300
TZNAME:EEST
DTSTART:20230326T010000
END:DAYLIGHT
BEGIN:STANDARD
TZOFFSETFROM:+0300
TZOFFSETTO:+0200
TZNAME:EET
DTSTART:20231029T010000
END:STANDARD
BEGIN:DAYLIGHT
TZOFFSETFROM:+0200
TZOFFSETTO:+0300
TZNAME:EEST
DTSTART:20240331T010000
END:DAYLIGHT
BEGIN:STANDARD
TZOFFSETFROM:+0300
TZOFFSETTO:+0200
TZNAME:EET
DTSTART:20241027T010000
END:STANDARD
END:VTIMEZONE
BEGIN:VEVENT
DTSTART;TZID=Europe/Helsinki:20231231T220000
DTEND;TZID=Europe/Helsinki:20240101T030000
DTSTAMP:20260425T225154
CREATED:20231001T224841Z
LAST-MODIFIED:20241107T141508Z
UID:10000011-1704060000-1704078000@singlemeetsingle.nl
SUMMARY:New Year Party Groningen
DESCRIPTION:NEW YEAR PARTY PUDDINGFABRIEK GRONINGEN\nDIT EVENEMENT IS UITVERKOCHT!!!!!!\n\nDatum: 31 december 2023\nTijd: 22:00-03:00\nConcept: New Year Party – 80\,90\,00\, till now\nLocatie: Puddingfabriek – Groningen\nAdres: Viaductstraat 3\, 9725 BG\, Groningen\nLeeftijd: Toegang voor iedereen vanaf 30 jaar tot ver daarboven\nTickets: \nEarly Bird: € 26\,50 Uitverkocht\nRegular: € 29\,50 Uitverkocht\nLate Bird € 32\,50 Uitverkocht\n Fee: € 1\,00\nLedenkorting: Voor dit feest geldt er geen ledenkorting\n\nParkeren: Gratis vanaf 18.00 uur in de directe omgeving of betaald in parkeergarage Oosterpoort of Rademarkt\, 8 min lopen. \nWat kun je op deze New Year Party verwachten?\nSMS presenteert haar Groningse New Year Party op zondag 31 december 2023. Vanaf 22.00 uur is iedereen van 30 jaar en veel ouder van harte welkom om het jaar 2023 in stijl af te sluiten. Ervaar de geweldige sfeer\, geniet van alle danceable hits uit 80’s\, 90’s\, 00’s till now. Qua muziek draaien we zeker niet alleen de bekende disco hits\, maar ook funk\, groove en lekkere uptempo nummers. Beleef deze spetterende avond met je vrienden\, vriendinnen of kom alleen. Geniet van de lekkerste gratis hapjes gedurende de hele avond\, proef om 00:00 uur de heerlijke gratis champagne en bekijk het prachtige vuurwerk terwijl je geniet van de lekkerste hits en lichtshow! \nOud en Nieuw vieren in Groningen\nHet gezelligste oud en nieuw feest van Groningen brengt je het beste uit de 80’s\, 90’s\, 00’s\, till now. In de feestelijk ingerichte Puddingfabriek zorgt onze top DJ voor spetterend vuurwerk op de dansvloer. Funk\, groove\, disco en een vlegje house\, alle danceable hits komen voorbij. \nEen ticket voor de New Year Party Puddingfabriek Groningen is hier verkrijgbaar en is inclusief: \n\nToegang tot de New Year Party Puddingfabriek Groningen\nGratis champagne tijdens het proostmoment om 00:00 uur\nHeerlijke oliebollen\nGratis heerlijke hapjes gedurende de hele avond\nDansen op de meest danceable hits uit de 80’s\, 90’s\, 00’s\, till now\nEen 5 uur durend spectaculair feest met lichtshow\n\nKortom\, koop nu je ticket en je bent gegarandeerd van een complete avond uit en een fantastisch begin van 2024! We zien je graag op zondag 31 december
URL:https://singlemeetsingle.nl/activiteit/new-year-party/
LOCATION:Puddingfabriek\, Viaductstraat 3\, Groningen\, groningen\, 9725 BG\, Nederland
CATEGORIES:Dansen en uitgaan
ATTACH;FMTTYPE=image/png:https://singlemeetsingle.nl/wp-content/uploads/2023/10/facebook-post_facebook-post-1.png
GEO:53.2103456;6.5709269
X-APPLE-STRUCTURED-LOCATION;VALUE=URI;X-ADDRESS=Puddingfabriek Viaductstraat 3 Groningen groningen 9725 BG Nederland;X-APPLE-RADIUS=500;X-TITLE=Viaductstraat 3:geo:6.5709269,53.2103456
END:VEVENT
END:VCALENDAR