
BEGIN:VCALENDAR
VERSION:2.0
PRODID:-//Single-Meet-Single - ECPv6.2.2//NONSGML v1.0//EN
CALSCALE:GREGORIAN
METHOD:PUBLISH
X-ORIGINAL-URL:https://singlemeetsingle.nl
X-WR-CALDESC:Evenementen voor Single-Meet-Single
REFRESH-INTERVAL;VALUE=DURATION:PT1H
X-Robots-Tag:noindex
X-PUBLISHED-TTL:PT1H
BEGIN:VTIMEZONE
TZID:Europe/Helsinki
BEGIN:DAYLIGHT
TZOFFSETFROM:+0200
TZOFFSETTO:+0300
TZNAME:EEST
DTSTART:20260329T010000
END:DAYLIGHT
BEGIN:STANDARD
TZOFFSETFROM:+0300
TZOFFSETTO:+0200
TZNAME:EET
DTSTART:20261025T010000
END:STANDARD
END:VTIMEZONE
BEGIN:VEVENT
DTSTART;TZID=Europe/Helsinki:20260131T200000
DTEND;TZID=Europe/Helsinki:20260201T010000
DTSTAMP:20260423T145020
CREATED:20251015T123445Z
LAST-MODIFIED:20251231T144729Z
UID:10000108-1769889600-1769907600@singlemeetsingle.nl
SUMMARY:Single Meet Single Party Amersfoort/Leusden-31-01-2026
DESCRIPTION:Single Meet Single Party Amersfoort/Leusden-31-01-2026 – 80’s\, 90’s\, 00’s till now  \n\nDatum: Zaterdag 31 Januari 2026\nTijd: 20:00-01:00\nConcept: 80’s\, 90’s\, 00’s till now\nLocatie: Fort 33 – Leusden\nAdres: Bavoortseweg 25\, 3833 BM\, Leusden\nLeeftijd: Toegang voor singles vanaf 30 jaar tot ver daarboven\nTickets: \nEarly Bird: € 13\,50(Uitverkocht) \nRegular: € 16\,00\nAan de deur € 20\,00\n Fee: € 1\,50\nLedenkorting: Dit feest is voor iedere single toegankelijk maar geldt er een korting van €2\,50 voor full member leden. Log in als lid en bestel dan je tickets en druk op de button “ik ga” en geniet samen met andere leden van dit evenement. Gezellig toch!!\nSfeerimpressie: https://singlemeetsingle.nl/single-meet-single-platform/foto-videos/\n\n \n Wat kun je verwachten \nNa onze uitverkochte najaarseditie zijn we weer terug met het gezelligste single feest van Amersfoort/Leusden en omstreken. Op deze prachtige locatie zorgt DJ Henri Geerlings weer voor spetterend vuurwerk op de dansvloer. Ervaar de geweldige sfeer en geniet van alle danceable hits uit de 80’s\, 90’s\, 00’s till now. Qua muziek draaien we zeker niet alleen de bekende disco hits\, maar ook funk\, groove en een vleugje house. Ontmoet de leukste singles van Amersfoort en omstreken en geniet van de lekkerste hits! \nGa of ben je geïnteresseerd in dit evenement laat dit dan weten via Facebook: \nKortom\, koop nu je ticket en je bent gegarandeerd van een complete avond uit en een fantastisch singlefeest! \nP.S: Ben je single en wil je niet alleen naar dit feest\, dan is het toegestaan tegen betaling een vriend of vriendin die geen single is mee te nemen. Deze singleparty is niet gericht op dating maar een leuke avond voor gelijkgestemden. \nParkeren: Gratis parkeren naast de locatie
URL:https://singlemeetsingle.nl/activiteit/single-meet-single-party-amersfoort-leusden-31-01-2026/
LOCATION:Fort 33\, Bavoortseweg 25\, Leusden\, 3833 BM\, Nederland
CATEGORIES:Dansen en uitgaan
ATTACH;FMTTYPE=image/png:https://singlemeetsingle.nl/wp-content/uploads/2025/10/2026-01-31-Amersfoort-Leusden_facebook-event.png
GEO:52.1316469;5.4149857
X-APPLE-STRUCTURED-LOCATION;VALUE=URI;X-ADDRESS=Fort 33 Bavoortseweg 25 Leusden 3833 BM Nederland;X-APPLE-RADIUS=500;X-TITLE=Bavoortseweg 25:geo:5.4149857,52.1316469
END:VEVENT
BEGIN:VEVENT
DTSTART;TZID=Europe/Helsinki:20260207T200000
DTEND;TZID=Europe/Helsinki:20260208T003000
DTSTAMP:20260423T145020
CREATED:20251020T115334Z
LAST-MODIFIED:20251231T144620Z
UID:10000114-1770494400-1770510600@singlemeetsingle.nl
SUMMARY:Single Meet Single Party Enschede-7-2-2026
DESCRIPTION:Single Meet Single Party Enschede-7-2-2026 – 80’s\, 90’s\, 00’s till now \n\nDatum: Zaterdag 7 Februari 2026\nTijd: 20:00-00:30\nConcept: 80’s\, 90’s\, 00’s till now\nLocatie: Theater Mystiek– Enschede\nAdres: Richtersbleek-Zandvoort 10\, 7521 BE Enschede\nLeeftijd: Toegang voor singles vanaf 30 jaar tot ver daarboven\nTickets: \nEarly Bird: € 13\,50 (Uitverkocht)\nRegular: € 16\,00\nAan de deur € 20\,00\n Fee: € 1\,50\nLedenkorting: Dit feest is voor iedere single toegankelijk maar geldt er een korting van €2\,50 voor full member leden. Log in als lid en bestel dan je tickets en druk op de button “ik ga” en geniet samen met andere leden van dit evenement. Gezellig toch!!\nSfeerimpressie: https://singlemeetsingle.nl/single-meet-single-platform/foto-videos/\n\n \n Wat kun je verwachten \nSingle Meet Single ook in 2026 weer terug bij Mystiek Theater met het gezelligste single feest van Enschede en omstreken. Op deze prachtige locatie zorgt onze top DJ Henri Geerlings weer voor spetterend vuurwerk op de dansvloer. Ervaar de geweldige sfeer en geniet van alle danceable hits uit de 80’s\, 90’s\, 00’s till now. Qua muziek draaien we zeker niet alleen de bekende disco hits\, maar ook funk\, groove en een vleugje house. Ontmoet ook de leukste singles van Enschede en omstreken en geniet van de lekkerste hits! \nGa of ben je geïnteresseerd in dit evenement laat dit dan weten via Facebook: \nKortom\, koop nu je ticket en je bent gegarandeerd van een complete avond uit en een fantastisch singlefeest!  \nP.S: Ben je single en wil je niet alleen naar dit feest\, dan is het toegestaan tegen betaling een vriend of vriendin die geen single is mee te nemen. Deze singleparty is niet gericht op dating maar een leuke avond voor gelijkgestemden. \nParkeren: Gratis parkeren naast de locatie
URL:https://singlemeetsingle.nl/activiteit/single-meet-single-party-enschede-7-2-2026/
LOCATION:Theater Mystiek\, Richtersbleek-Zandvoort 10\, Enschede\, Overijssel\, 7521 BE\, Nederland
CATEGORIES:Dansen en uitgaan
ATTACH;FMTTYPE=image/png:https://singlemeetsingle.nl/wp-content/uploads/2025/10/2026-02-07-Enchede_facebook-event.png
GEO:52.2224537;6.8710128
X-APPLE-STRUCTURED-LOCATION;VALUE=URI;X-ADDRESS=Theater Mystiek Richtersbleek-Zandvoort 10 Enschede Overijssel 7521 BE Nederland;X-APPLE-RADIUS=500;X-TITLE=Richtersbleek-Zandvoort 10:geo:6.8710128,52.2224537
END:VEVENT
BEGIN:VEVENT
DTSTART;TZID=Europe/Helsinki:20260214T200000
DTEND;TZID=Europe/Helsinki:20260215T010000
DTSTAMP:20260423T145020
CREATED:20251020T125110Z
LAST-MODIFIED:20251231T144453Z
UID:10000115-1771099200-1771117200@singlemeetsingle.nl
SUMMARY:Single Meet Single Party Bemmel 14-2-2026
DESCRIPTION:Single Meet Single Party Bemmel 14-2-2026 – 80’s\, 90’s\, 00’s till now  \n\nDatum: Zaterdag 14 Februari 2026 \nTijd: 20:00-01:00\nConcept: 80’s\, 90’s\, 00’s till now\nLocatie: Theaterkerk – Bemmel bij Nijmegen\nAdres: Markt 5\, 6681 AE\, Bemmel\nLeeftijd: Toegang voor singles vanaf 30 jaar tot ver daarboven\nTickets: \nEarly Bird: € 13\,50 (Uitverkocht)\nRegular: € 16\,00\nAan de deur € 20\,00\n Fee: € 1\,50\nLedenkorting: Dit feest is voor iedere single toegankelijk maar geldt er een korting van €2\,50 voor full member leden. Log in als lid en bestel dan je tickets en druk op de button “ik ga” en geniet samen met andere leden van dit evenement. Gezellig toch!!\nSfeerimpressie: https://singlemeetsingle.nl/single-meet-single-platform/foto-videos/\n\n \n  \nWat kun je verwachten \nNa onze drukbezochte 1e editie is Single Meet Single terug op valentijnsdag bij theaterkerk-Bemmel met het gezelligste single feest van Bemmel/Nijmegen en omstreken. Vanaf 20.00 uur is iedere single van 30 jaar en veel ouder van harte welkom op deze prachtige locatie. Ervaar de geweldige sfeer en geniet van alle danceable hits uit de 80’s\, 90’s\, 00’s till now. Qua muziek draaien we zeker niet alleen de bekende disco hits\, maar ook funk\, groove en een vleugje house. Ontmoet ook de leukste singles van Bemmel/Nijmegen en omstreken en geniet van de lekkerste hits! \nGa of ben je geïnteresseerd in dit evenement laat dit dan weten via Facebook: \nKortom\, koop nu je ticket en je bent gegarandeerd van een complete avond uit en een fantastisch singlefeest!  \nP.S: Ben je single en wil je niet alleen naar dit feest\, dan is het toegestaan tegen betaling een vriend of vriendin die geen single is mee te nemen. Deze singleparty is niet gericht op dating maar een leuke avond voor gelijkgestemden. \nParkeren:  Gratis parkeren vanaf 18.00 bij de parkeerplaats van de Lidl. De ingang hiervan is gelegen aan de Dorpsstraat (schuin tegenover de TheaterKerk). Let op!!!Onder de Markt is een parkeergarage\, deze niet gebruiken omdat hij vroeg in de avond sluit.  \n 
URL:https://singlemeetsingle.nl/activiteit/single-meet-single-party-bemmel-14-2-2026/
LOCATION:Theaterkerk\, Markt 5\, Bemmel\, 6681 AE\, Netherlands
CATEGORIES:Dansen en uitgaan
ATTACH;FMTTYPE=image/png:https://singlemeetsingle.nl/wp-content/uploads/2025/10/2026-02-14-Bemmel_facebook-event.png
GEO:51.8925723;5.8974435
X-APPLE-STRUCTURED-LOCATION;VALUE=URI;X-ADDRESS=Theaterkerk Markt 5 Bemmel 6681 AE Netherlands;X-APPLE-RADIUS=500;X-TITLE=Markt 5:geo:5.8974435,51.8925723
END:VEVENT
BEGIN:VEVENT
DTSTART;TZID=Europe/Helsinki:20260221T200000
DTEND;TZID=Europe/Helsinki:20260222T010000
DTSTAMP:20260423T145020
CREATED:20251023T090145Z
LAST-MODIFIED:20251231T144356Z
UID:10000122-1771704000-1771722000@singlemeetsingle.nl
SUMMARY:Single Meet Single Party Groningen 21-2-2026
DESCRIPTION:Single Meet Single Party Groningen 21-2-2026 80’s\, 90’s\, 00’s till now  \n\nDatum: Zaterdag 21 Februari 2026\nTijd: 20:00-01:00\nConcept: 80’s\, 90’s\, 00’s till now\nLocatie: De Huiskamer\nAdres: Suikerlaan 18\, 9743 DA\, Groningen\nLeeftijd: Toegang voor singles vanaf 30 jaar tot ver daarboven\nTickets: \nEarly Bird: € 13\,50 (Uitverkocht)\nRegular: € 16\,00\nAan de deur € 20\,00\n Fee: € 1\,50\nLedenkorting: \nDit feest is voor iedere single toegankelijk maar geldt er een korting van €2\,50 voor full member leden. Log in als lid en bestel dan je tickets en druk op de button “ik ga” en geniet samen met andere leden van dit evenement. Gezellig toch!!\n\nParkeren: Gratis voor de deur \nSFEERIMPRESSIE: https://singlemeetsingle.nl/single-meet-single-platform/foto-videos/ \n \n  \nWat kun je verwachten \nSingle Meet Single terug bij ”De Huiskamer” met het gezelligste single feest van Groningen en omstreken. Op deze prachtige locatie zorgt onze top DJ voor spetterend vuurwerk op de dansvloer. Ervaar de geweldige sfeer en geniet van alle danceable hits uit de 80’s\, 90’s\, 00’s till now. Qua muziek draaien we zeker niet alleen de bekende disco hits\, maar ook funk\, groove en een vleugje house. Ontmoet de leukste singles van Groningen en omstreken en geniet van de lekkerste hits! \nGa of ben je geïnteresseerd in dit evenement laat dit dan weten via Facebook: \nKortom\, koop nu je ticket en je bent gegarandeerd van een complete avond uit en een fantastisch singlefeest!  \nP.S: Ben je single en wil je niet alleen naar dit feest\, dan is het toegestaan tegen betaling een vriend of vriendin die geen single is mee te nemen. Deze singleparty is niet gericht op dating maar een leuke avond voor gelijkgestemden.
URL:https://singlemeetsingle.nl/activiteit/single-meet-single-party-groningen-21-2-2026/
LOCATION:De Huiskamer\, Suikerlaan 18\, Groningen\, Groningen\, 9743 DA\, Nederland
CATEGORIES:Dansen en uitgaan
ATTACH;FMTTYPE=image/png:https://singlemeetsingle.nl/wp-content/uploads/2025/10/2026-02-21-Groningen_facebook-event.png
GEO:53.2102566;6.5378925
X-APPLE-STRUCTURED-LOCATION;VALUE=URI;X-ADDRESS=De Huiskamer Suikerlaan 18 Groningen Groningen 9743 DA Nederland;X-APPLE-RADIUS=500;X-TITLE=Suikerlaan 18:geo:6.5378925,53.2102566
END:VEVENT
END:VCALENDAR