
BEGIN:VCALENDAR
VERSION:2.0
PRODID:-//Single-Meet-Single - ECPv6.2.2//NONSGML v1.0//EN
CALSCALE:GREGORIAN
METHOD:PUBLISH
X-WR-CALNAME:Single-Meet-Single
X-ORIGINAL-URL:https://singlemeetsingle.nl
X-WR-CALDESC:Evenementen voor Single-Meet-Single
REFRESH-INTERVAL;VALUE=DURATION:PT1H
X-Robots-Tag:noindex
X-PUBLISHED-TTL:PT1H
BEGIN:VTIMEZONE
TZID:Europe/Helsinki
BEGIN:DAYLIGHT
TZOFFSETFROM:+0200
TZOFFSETTO:+0300
TZNAME:EEST
DTSTART:20250330T010000
END:DAYLIGHT
BEGIN:STANDARD
TZOFFSETFROM:+0300
TZOFFSETTO:+0200
TZNAME:EET
DTSTART:20251026T010000
END:STANDARD
END:VTIMEZONE
BEGIN:VEVENT
DTSTART;TZID=Europe/Helsinki:20251101T200000
DTEND;TZID=Europe/Helsinki:20251102T010000
DTSTAMP:20260423T224600
CREATED:20250423T141800Z
LAST-MODIFIED:20250812T102432Z
UID:10000096-1762027200-1762045200@singlemeetsingle.nl
SUMMARY:Single Meet Single Party Zwolle 1-11-2025
DESCRIPTION:Single Meet Single Party Zwolle 1-11-2025 – 80’s\, 90’s\, 00’s till now \n\nDatum: Zaterdag 1 November 2025\nTijd: 20:00-01:00\nConcept: 80’s\, 90’s\, 00’s till now\nLocatie: De Enk– Zwolle\nAdres: Enkstraat 67\, 8012 VA Zwolle\nLeeftijd: Toegang voor singles vanaf 30 jaar tot ver daarboven\nTickets: \nEarly Bird: € 13\,50 (Uitverkocht)\nRegular: € 16\,00\nAan de deur € 20\,00\n Fee: € 1\,50\nLedenkorting: Dit feest is voor iedere single toegankelijk maar geldt er een korting van €2\,50 voor full member leden. Log in als lid en bestel dan je tickets en druk op de button “ik ga” en geniet samen met andere leden van dit evenement. Gezellig toch!!\nSfeerimpressie: https://singlemeetsingle.nl/single-meet-single-platform/foto-videos/\n\n \nWat kun je verwachten \nBeleef weer een heerlijke dansavond met gelijkgestemden\, 1 november zijn we weer terug in De Enk met het gezelligste single feest van Zwolle en omstreken. Op deze gezellige locatie zorgt DJ Henri Geerlings weer voor spetterend vuurwerk op de dansvloer. Ervaar de geweldige sfeer en geniet van alle danceable hits uit de 80’s\, 90’s\, 00’s till now. Qua muziek draaien we zeker niet alleen de bekende disco hits\, maar ook funk\, groove en een vleugje house. Ontmoet de leukste singles van Zwolle en omstreken en geniet van de lekkerste hits! \nGa of ben je geïnteresseerd in dit evenement laat dit dan weten via Facebook: \nKortom\, koop nu je ticket en je bent gegarandeerd van een complete avond uit en een fantastisch singlefeest!  \nP.S: Ben je single en wil je niet alleen naar dit feest\, dan is het toegestaan een vriend of vriendin die geen single is mee te nemen. Deze singleparty is niet gericht op dating maar een leuke avond voor gelijkgestemden.
URL:https://singlemeetsingle.nl/activiteit/single-meet-single-party-zwolle-1-11-2025/
LOCATION:De Enk\, Enkstraat 67\, Zwolle\, 8012 VA\, Nederland
CATEGORIES:Dansen en uitgaan
ATTACH;FMTTYPE=image/png:https://singlemeetsingle.nl/wp-content/uploads/2025/04/2025-11-01-Zwolle_facebook-event.png
GEO:52.5067975;6.0990397
X-APPLE-STRUCTURED-LOCATION;VALUE=URI;X-ADDRESS=De Enk Enkstraat 67 Zwolle 8012 VA Nederland;X-APPLE-RADIUS=500;X-TITLE=Enkstraat 67:geo:6.0990397,52.5067975
END:VEVENT
BEGIN:VEVENT
DTSTART;TZID=Europe/Helsinki:20251108T200000
DTEND;TZID=Europe/Helsinki:20251109T010000
DTSTAMP:20260423T224600
CREATED:20250528T141510Z
LAST-MODIFIED:20250818T070914Z
UID:10000102-1762632000-1762650000@singlemeetsingle.nl
SUMMARY:Single Meet Single Party Lelystad-8-11-2025
DESCRIPTION:Single Meet Single Party Lelystad-8-11-2025-80’s\, 90’s\, 00’s till now \n\nDatum: Zaterdag 8 november 2025\nTijd: 20:00-01:00\nConcept: 80’s\, 90’s\, 00’s till now\nLocatie: Corneel–Lelystad\nAdres: Neringweg 159\, 8224 KA\, Lelystad\nLeeftijd: Toegang voor singles vanaf 30 jaar tot ver daarboven\nTickets: \nEarly Bird: € 13\,50 (Uitverkocht)\nRegular: € 16\,00\nAan de deur € 20\,00\n Fee: € 1\,50\nLedenkorting: Dit feest is voor iedere single toegankelijk maar geldt er een korting van €2\,50 voor full member leden. Log in als lid en bestel dan je tickets en druk op de button “ik ga” en geniet samen met andere leden van dit evenement. Gezellig toch!!\nSfeerimpressie: https://singlemeetsingle.nl/single-meet-single-platform/foto-videos/\n\n \n  \n Wat kun je verwachten \nNa onze sucesvolle 1e editie is Single Meet Single terug bij Corneel met het gezelligste single feest van Lelystad en omstreken. Op deze prachtige locatie zorgt onze top DJ voor spetterend vuurwerk op de dansvloer. Ervaar de geweldige sfeer en geniet van alle danceable hits uit de 80’s\, 90’s\, 00’s till now. Qua muziek draaien we zeker niet alleen de bekende disco hits\, maar ook funk\, groove en een vleugje house. Ontmoet ook de leukste singles van Lelystad en omstreken en geniet van de lekkerste hits! \nGa of ben je geïnteresseerd in dit evenement laat dit dan weten via Facebook: \nKortom\, koop nu je ticket en je bent gegarandeerd van een complete avond uit en een fantastisch singlefeest!  \nP.S: Ben je single en wil je niet alleen naar dit feest\, dan is het toegestaan een vriend of vriendin die geen single is mee te nemen. Deze singleparty is niet gericht op dating maar een leuke avond voor gelijkgestemden. \nParkeren: Gratis parkeren in directe omgeving van de locatie
URL:https://singlemeetsingle.nl/activiteit/single-meet-single-party-lelystad-8-11-2025/
LOCATION:Corneel\, Neringweg 159\, Lelystad\, 8224 KA\, Netherlands
CATEGORIES:Dansen en uitgaan
ATTACH;FMTTYPE=image/png:https://singlemeetsingle.nl/wp-content/uploads/2025/05/2025-11-08-Lelystad_facebook-event.png
GEO:52.5073096;5.4779149
X-APPLE-STRUCTURED-LOCATION;VALUE=URI;X-ADDRESS=Corneel Neringweg 159 Lelystad 8224 KA Netherlands;X-APPLE-RADIUS=500;X-TITLE=Neringweg 159:geo:5.4779149,52.5073096
END:VEVENT
BEGIN:VEVENT
DTSTART;TZID=Europe/Helsinki:20251122T200000
DTEND;TZID=Europe/Helsinki:20251123T010000
DTSTAMP:20260423T224600
CREATED:20250529T092752Z
LAST-MODIFIED:20250812T101641Z
UID:10000103-1763841600-1763859600@singlemeetsingle.nl
SUMMARY:Single Meet Single Party Groningen 22-11-2025
DESCRIPTION:Single Meet Single Party Groningen 22-11-2025 80’s\, 90’s\, 00’s till now  \n\nDatum: Zaterdag 22 November 2025\nTijd: 20:00-01:00\nConcept: 80’s\, 90’s\, 00’s till now\nLocatie: De Huiskamer\nAdres: Suikerlaan 18\, 9743 DA\, Groningen\nLeeftijd: Toegang voor singles vanaf 30 jaar tot ver daarboven\nTickets: \nEarly Bird: € 13\,50 (Uitverkocht)\nRegular: € 16\,00\nAan de deur € 20\,00\n Fee: € 1\,50\nLedenkorting: \nDit feest is voor iedere single toegankelijk maar geldt er een korting van €2\,50 voor full member leden. Log in als lid en bestel dan je tickets en druk op de button “ik ga” en geniet samen met andere leden van dit evenement. Gezellig toch!!\n\nParkeren: Gratis voor de deur \nSFEERIMPRESSIE: https://singlemeetsingle.nl/single-meet-single-platform/foto-videos/ \n \n  \nWat kun je verwachten \nHet gezelligste single feest van Groningen en omstreken terug bij ”De Huiskamer” op het voormalig suikerunieterrein. Op deze prachtige locatie zorgt onze top DJ voor spetterend vuurwerk op de dansvloer. Ervaar de geweldige sfeer en geniet van alle danceable hits uit de 80’s\, 90’s\, 00’s till now. Qua muziek draaien we zeker niet alleen de bekende disco hits\, maar ook funk\, groove en een vleugje house. Ontmoet de leukste singles van Groningen en omstreken en geniet van de lekkerste hits! \nGa of ben je geïnteresseerd in dit evenement laat dit dan weten via Facebook: \nKortom\, koop nu je ticket en je bent gegarandeerd van een complete avond uit en een fantastisch singlefeest!  \nP.S: Ben je single en wil je niet alleen naar dit feest\, dan is het toegestaan een vriend of vriendin die geen single is mee te nemen. Deze singleparty is niet gericht op dating maar een leuke avond voor gelijkgestemden.
URL:https://singlemeetsingle.nl/activiteit/single-meet-single-party-groningen-22-11-2025/
LOCATION:De Huiskamer\, Suikerlaan 18\, Groningen\, Groningen\, 9743 DA\, Nederland
CATEGORIES:Dansen en uitgaan
ATTACH;FMTTYPE=image/png:https://singlemeetsingle.nl/wp-content/uploads/2025/05/2025-11-22-Groningen_facebook-event.png
GEO:53.2102566;6.5378925
X-APPLE-STRUCTURED-LOCATION;VALUE=URI;X-ADDRESS=De Huiskamer Suikerlaan 18 Groningen Groningen 9743 DA Nederland;X-APPLE-RADIUS=500;X-TITLE=Suikerlaan 18:geo:6.5378925,53.2102566
END:VEVENT
END:VCALENDAR