
BEGIN:VCALENDAR
VERSION:2.0
PRODID:-//Single-Meet-Single - ECPv6.2.2//NONSGML v1.0//EN
CALSCALE:GREGORIAN
METHOD:PUBLISH
X-ORIGINAL-URL:https://singlemeetsingle.nl
X-WR-CALDESC:Evenementen voor Single-Meet-Single
REFRESH-INTERVAL;VALUE=DURATION:PT1H
X-Robots-Tag:noindex
X-PUBLISHED-TTL:PT1H
BEGIN:VTIMEZONE
TZID:Europe/Helsinki
BEGIN:DAYLIGHT
TZOFFSETFROM:+0200
TZOFFSETTO:+0300
TZNAME:EEST
DTSTART:20250330T010000
END:DAYLIGHT
BEGIN:STANDARD
TZOFFSETFROM:+0300
TZOFFSETTO:+0200
TZNAME:EET
DTSTART:20251026T010000
END:STANDARD
END:VTIMEZONE
BEGIN:VEVENT
DTSTART;TZID=Europe/Helsinki:20250315T200000
DTEND;TZID=Europe/Helsinki:20250316T010000
DTSTAMP:20260424T194251
CREATED:20241106T090703Z
LAST-MODIFIED:20250122T091254Z
UID:10000076-1742068800-1742086800@singlemeetsingle.nl
SUMMARY:Single Meet Single Party Amersfoort/Leusden-15-3-2025
DESCRIPTION:Single Meet Single Party Amersfoort/Leusden-15-3-2025- 80’s\, 90’s\, 00’s till now  \n\nDatum: Zaterdag 15 Maart 2025\nTijd: 20:00-01:00\nConcept: 80’s\, 90’s\, 00’s till now\nLocatie: Fort 33 – Leusden\nAdres: Bavoortseweg 25\, 3833 BM\, Leusden\nLeeftijd: Toegang voor singles vanaf 30 jaar tot ver daarboven\nTickets: \nEarly Bird: € 13\,50(Uitverkocht)\nRegular: € 16\,00\nAan de deur € 20\,00\n Fee: € 1\,50\nLedenkorting: Dit feest is voor iedere single toegankelijk maar geldt er een korting van €2\,50 voor full member leden. Log in als lid en bestel dan je tickets en druk op de button “ik ga” en geniet samen met andere leden van dit evenement. Gezellig toch!!\nSfeerimpressie: https://singlemeetsingle.nl/single-meet-single-platform/foto-videos/\n\n \n Wat kun je verwachten \nNa onze drukbezochte najaarseditie zijn we weer terug met het gezelligste single feest van Amersfoort/Leusden en omstreken. Op deze prachtige locatie zorgt onze top DJ weer voor spetterend vuurwerk op de dansvloer. Ervaar de geweldige sfeer en geniet van alle danceable hits uit de 80’s\, 90’s\, 00’s till now. Qua muziek draaien we zeker niet alleen de bekende disco hits\, maar ook funk\, groove en een vleugje house. Ontmoet de leukste singles van Amersfoort en omstreken en geniet van de lekkerste hits! \nKortom\, koop nu je ticket en je bent gegarandeerd van een complete avond uit en een fantastisch singlefeest! \nP.S: Ben je single en wil je niet alleen naar dit feest\, dan is het toegestaan een vriend of vriendin die geen single is mee te nemen. Deze singleparty is niet gericht op dating maar een leuke avond voor gelijkgestemden. \nParkeren: Gratis parkeren naast de locatie
URL:https://singlemeetsingle.nl/activiteit/single-meet-single-party-amersfoort-leusden-15-3-2025/
LOCATION:Fort 33\, Bavoortseweg 25\, Leusden\, 3833 BM\, Nederland
CATEGORIES:Dansen en uitgaan
ATTACH;FMTTYPE=image/png:https://singlemeetsingle.nl/wp-content/uploads/2024/11/2025-03-15-Amersfoort-Leusden_facebook-post.png
GEO:52.1316469;5.4149857
X-APPLE-STRUCTURED-LOCATION;VALUE=URI;X-ADDRESS=Fort 33 Bavoortseweg 25 Leusden 3833 BM Nederland;X-APPLE-RADIUS=500;X-TITLE=Bavoortseweg 25:geo:5.4149857,52.1316469
END:VEVENT
BEGIN:VEVENT
DTSTART;TZID=Europe/Helsinki:20250322T200000
DTEND;TZID=Europe/Helsinki:20250323T010000
DTSTAMP:20260424T194251
CREATED:20241107T144104Z
LAST-MODIFIED:20241223T131508Z
UID:10000077-1742673600-1742691600@singlemeetsingle.nl
SUMMARY:Single Meet Single Party Zwolle 22-3-2025
DESCRIPTION:Single Meet Single Party Zwolle 22-3-2025 – 80’s\, 90’s\, 00’s till now \n\nDatum: Zaterdag 22 Maart 2025\nTijd: 20:00-01:00\nConcept: 80’s\, 90’s\, 00’s till now\nLocatie: De Enk– Zwolle\nAdres: Enkstraat 67\, 8012 VA Zwolle\nLeeftijd: Toegang voor singles vanaf 30 jaar tot ver daarboven\nTickets: \nEarly Bird: € 13\,50(Uitverkocht)\nRegular: € 16\,00\nAan de deur € 20\,00\n Fee: € 1\,50\nLedenkorting: Dit feest is voor iedere single toegankelijk maar geldt er een korting van €2\,50 voor full member leden. Log in als lid en bestel dan je tickets en druk op de button “ik ga” en geniet samen met andere leden van dit evenement. Gezellig toch!!\nSfeerimpressie: https://singlemeetsingle.nl/single-meet-single-platform/foto-videos/\n\n \nWat kun je verwachten \nBeleef weer een heerlijke dansavond met gelijkgestemden\, 22 maart zijn we weer terug in De Enk met het gezelligste single feest van Zwolle en omstreken. Op deze gezellige locatie zorgt onze top DJ weer voor spetterend vuurwerk op de dansvloer. Ervaar de geweldige sfeer en geniet van alle danceable hits uit de 80’s\, 90’s\, 00’s till now. Qua muziek draaien we zeker niet alleen de bekende disco hits\, maar ook funk\, groove en een vleugje house. Ontmoet de leukste singles van Zwolle en omstreken en geniet van de lekkerste hits! \nKortom\, koop nu je ticket en je bent gegarandeerd van een complete avond uit en een fantastisch singlefeest! We zien je graag bij onze Single Meet Single Party Zwolle op 22 maart \nP.S: Ben je single en wil je niet alleen naar dit feest\, dan is het toegestaan een vriend of vriendin die geen single is mee te nemen. Deze singleparty is niet gericht op dating maar een leuke avond voor gelijkgestemden.
URL:https://singlemeetsingle.nl/activiteit/single-meet-single-party-zwolle-22-3-2025/
LOCATION:De Enk\, Enkstraat 67\, Zwolle\, 8012 VA\, Nederland
CATEGORIES:Dansen en uitgaan
ATTACH;FMTTYPE=image/png:https://singlemeetsingle.nl/wp-content/uploads/2024/11/2025-03-22-Zwolle_facebook-post.png
GEO:52.5067975;6.0990397
X-APPLE-STRUCTURED-LOCATION;VALUE=URI;X-ADDRESS=De Enk Enkstraat 67 Zwolle 8012 VA Nederland;X-APPLE-RADIUS=500;X-TITLE=Enkstraat 67:geo:6.0990397,52.5067975
END:VEVENT
END:VCALENDAR