
BEGIN:VCALENDAR
VERSION:2.0
PRODID:-//Single-Meet-Single - ECPv6.2.2//NONSGML v1.0//EN
CALSCALE:GREGORIAN
METHOD:PUBLISH
X-ORIGINAL-URL:https://singlemeetsingle.nl
X-WR-CALDESC:Evenementen voor Single-Meet-Single
REFRESH-INTERVAL;VALUE=DURATION:PT1H
X-Robots-Tag:noindex
X-PUBLISHED-TTL:PT1H
BEGIN:VTIMEZONE
TZID:Europe/Helsinki
BEGIN:DAYLIGHT
TZOFFSETFROM:+0200
TZOFFSETTO:+0300
TZNAME:EEST
DTSTART:20240331T010000
END:DAYLIGHT
BEGIN:STANDARD
TZOFFSETFROM:+0300
TZOFFSETTO:+0200
TZNAME:EET
DTSTART:20241027T010000
END:STANDARD
END:VTIMEZONE
BEGIN:VEVENT
DTSTART;TZID=Europe/Helsinki:20240217T200000
DTEND;TZID=Europe/Helsinki:20240218T010000
DTSTAMP:20260425T183511
CREATED:20231124T125321Z
LAST-MODIFIED:20240930T151009Z
UID:10000041-1708200000-1708218000@singlemeetsingle.nl
SUMMARY:Single Meet Single Party Assen
DESCRIPTION:Single Meet Single Party Assen – 80’s\, 90’s\, 00’s till now  \n\nDatum: Zaterdag 17 februari 2024\nTijd: 20:00-01:00\nConcept: 80’s\, 90’s\, 00’s till now\nLocatie: Plaza Sportz Assen – Pand 17 \nAdres: Stelmakerstraat 17\, 9403 VB Assen\nLeeftijd: Toegang voor singles vanaf 30 jaar tot ver daarboven\nTickets: \nEarly Bird: € 12\,50 Uitverkocht\nRegular: € 15\,00\nAan de deur € 17\,50\n Fee: € 1\,00\nDit feest is voor iedere single toegankelijk maar geldt er een korting van €2\,50 voor full member leden. Log in als lid en bestel dan je tickets en druk op de button “ik ga” en geniet samen met andere leden van dit evenement. Gezellig toch!!\n\nParkeren: Gratis parkeren naast de locatie \nWat kun je verwachten \nSingle Meet Single presenteert haar Asser editie op zaterdag 17 februari 2024. Vanaf 20.00 uur is iedere single van 30 jaar en veel ouder van harte welkom op deze prachtige locatie. Ervaar de geweldige sfeer en geniet van alle danceable hits uit de 80’s\, 90’s\, 00’s till now. Qua muziek draaien we zeker niet alleen de bekende disco hits\, maar ook funk\, groove en lekkere uptempo nummers.Ontmoet de leukste singles van Assen en Drenthe. Beleef deze spetterende avond en geniet van de lekkerste hits! \nOntmoet de leukste singels in Assen \nHet gezelligste single feest van Assen en omstreken brengt je het beste uit de 80’s\, 90’s\, 00’s\, till now. Op deze prachtige locatie zorgt onze top DJ voor spetterend vuurwerk op de dansvloer. Funk\, groove\, disco en een vleugje house\, alle danceable hits komen voorbij. \nEen ticket voor de single meet single party Assen is hier verkrijgbaar en is inclusief: \n\nToegang tot de single meet single party- Plaza Sportz Assen – Pand 17 – Assen\nDansen op de meest danceable hits uit de 80’s\, 90’s\, 00’s\, till now\n\nKortom\, koop nu je ticket en je bent gegarandeerd van een complete avond uit en een fantastisch singlefeest! We zien je graag op zaterdag 17 februari  \nP.S: Ben je single en wil je niet alleen naar dit feest\, dan is het toegestaan een vriend of vriendin die geen single is mee te nemen. Deze singleparty is niet gericht op dating maar een leuke avond voor gelijkgestemden.
URL:https://singlemeetsingle.nl/activiteit/single-meet-single-party-assen/
LOCATION:Pand 17\, Stelmakerstraat 17\, Assen\, 9403 VB\, Nederland
CATEGORIES:Dansen en uitgaan
ATTACH;FMTTYPE=image/png:https://singlemeetsingle.nl/wp-content/uploads/2023/11/Single-Meet-Single-Party-Assen.png
GEO:53.0109609;6.588208
X-APPLE-STRUCTURED-LOCATION;VALUE=URI;X-ADDRESS=Pand 17 Stelmakerstraat 17 Assen 9403 VB Nederland;X-APPLE-RADIUS=500;X-TITLE=Stelmakerstraat 17:geo:6.588208,53.0109609
END:VEVENT
END:VCALENDAR