
BEGIN:VCALENDAR
VERSION:2.0
PRODID:-//Single-Meet-Single - ECPv6.2.2//NONSGML v1.0//EN
CALSCALE:GREGORIAN
METHOD:PUBLISH
X-ORIGINAL-URL:https://singlemeetsingle.nl
X-WR-CALDESC:Evenementen voor Single-Meet-Single
REFRESH-INTERVAL;VALUE=DURATION:PT1H
X-Robots-Tag:noindex
X-PUBLISHED-TTL:PT1H
BEGIN:VTIMEZONE
TZID:Europe/Helsinki
BEGIN:DAYLIGHT
TZOFFSETFROM:+0200
TZOFFSETTO:+0300
TZNAME:EEST
DTSTART:20260329T010000
END:DAYLIGHT
BEGIN:STANDARD
TZOFFSETFROM:+0300
TZOFFSETTO:+0200
TZNAME:EET
DTSTART:20261025T010000
END:STANDARD
END:VTIMEZONE
BEGIN:VEVENT
DTSTART;TZID=Europe/Helsinki:20260524T110000
DTEND;TZID=Europe/Helsinki:20260524T160000
DTSTAMP:20260421T064512
CREATED:20260420T085434Z
LAST-MODIFIED:20260420T090147Z
UID:10000201-1779620400-1779638400@singlemeetsingle.nl
SUMMARY:Pinkstermarkt in Orvelte
DESCRIPTION:Op zondag 24 mei 2026 verandert het prachtige monumentendorp Orvelte in een bruisende markt vol gezelligheid. Je kunt er heerlijk rondstruinen langs de kramen op de Brink\, genieten van ambachtelijke producten\, brocante\, lekkernijen en de unieke sfeer van dit historische dorp. \n\nGezellige markt met diverse kraampjes\nUnieke brocante\, woonaccessoires en streekproducten\nTerrassen en horeca geopend\nLeuke activiteiten voor jong en oud\nGratis toegang\n\nHet pittoreske Orvelte is een bijzonder museumdorp waar je echt even terug in de tijd stapt — perfect voor een gezellig dagje uit! \nGa je mee? \nWe verzamelen om 11.00 aan de Schoolstraat 2 in Orvelte voor Dorpscafe Warmolts.
URL:https://singlemeetsingle.nl/activiteit/pinkstermarkt-in-orvelte/
LOCATION:Dorpscafe Warmolts Orvelte\, Schoolstraat 2\, Orvelte\, 9441PE\, Netherlands
CATEGORIES:Markten en braderien
ATTACH;FMTTYPE=image/jpeg:https://singlemeetsingle.nl/wp-content/uploads/2026/04/Vlooienmarkt.jpg
GEO:52.8437592;6.6603089
X-APPLE-STRUCTURED-LOCATION;VALUE=URI;X-ADDRESS=Dorpscafe Warmolts Orvelte Schoolstraat 2 Orvelte 9441PE Netherlands;X-APPLE-RADIUS=500;X-TITLE=Schoolstraat 2:geo:6.6603089,52.8437592
END:VEVENT
BEGIN:VEVENT
DTSTART;TZID=Europe/Helsinki:20260525T110000
DTEND;TZID=Europe/Helsinki:20260525T160000
DTSTAMP:20260421T064512
CREATED:20260414T170938Z
LAST-MODIFIED:20260420T085423Z
UID:10000193-1779706800-1779724800@singlemeetsingle.nl
SUMMARY:Hondsrugmarkt in Zuidlaren
DESCRIPTION:Ontdek de charme van de Hondsrugmarkt in Zuidlaren! \nOp zoek naar een gezellig dagje uit? Ga dan mee naar de Hondsrugmarkt in Zuidlaren. \nStruin langs kraampjes van de vlooienmarkt met bijzondere spullen en gezelligheid. Geniet van een goed gesprek met de standhouders\, proef lokale specialiteiten en laat je inspireren door alles wat de regio te bieden heeft. \nOf je nu komt voor de gezelligheid\, een mooie vondst of gewoon een frisse neus: de Hondsrugmarkt is een heerlijke bestemming voor een ontspannen dagje uit. \nWe verzamelen om 11.00 aan de Brink in Zuidlaren voor Gouden Leeuw.
URL:https://singlemeetsingle.nl/activiteit/hondsrugmarkt-in-zuidlaren/
LOCATION:Zuidlaren de Brink\, De Brink\, Zuidlaren\, Drenthe\, 9470 AE
CATEGORIES:Markten en braderien
ATTACH;FMTTYPE=image/jpeg:https://singlemeetsingle.nl/wp-content/uploads/2026/04/Vlooienmarkt.jpg
GEO:53.0941274;6.6848434
X-APPLE-STRUCTURED-LOCATION;VALUE=URI;X-ADDRESS=Zuidlaren de Brink De Brink Zuidlaren Drenthe 9470 AE;X-APPLE-RADIUS=500;X-TITLE=De Brink:geo:6.6848434,53.0941274
END:VEVENT
BEGIN:VEVENT
DTSTART;TZID=Europe/Helsinki:20260711T110000
DTEND;TZID=Europe/Helsinki:20260711T170000
DTSTAMP:20260421T064512
CREATED:20260420T091553Z
LAST-MODIFIED:20260420T100246Z
UID:10000202-1783767600-1783789200@singlemeetsingle.nl
SUMMARY:Oldtimerdag Diever
DESCRIPTION:Oldtimerdag Diever 2026! \nHeb jij een zwak voor klassieke voertuigen of gewoon zin in een gezellige dag uit?\nKom dan naar de Oldtimerdag in Diever op zaterdag 11 juli 2026! \nGeniet van een prachtige verzameling oldtimers\, brommers\, motoren\, tractoren en meer\, allemaal te bewonderen in het sfeervolle centrum van Diever. \n🔧 Wat kun je verwachten?\n• Unieke klassieke voertuigen van dichtbij bekijken\n• Gezellige fair met kraampjes en nostalgische sfeer\n• Rondritten door de omgeving\n• Voor jong én oud volop te beleven \n🎉 Toegang is gratis! \n📍 Locatie: ‘t Keernpunt om 11.00 uur \nKom langs\, proef de sfeer van vroeger en beleef een dag vol nostalgie en gezelligheid! \n👉 Meer info: https://oldtimerdagdiever.nl/ \nZien we jou daar? 🚗💨 \nLet op: Single Meet Single is initiatiefnemer van deze activiteit maar is hier zelf niet bij aanwezig. In de chat onder deze activiteit heb je de gelegenheid om zaken af te stemmen met andere deelnemers. \nZelf een activiteit organiseren? Zie hier hoe eenvoudig dit gaat:  https://singlemeetsingle.nl/organizer/ \nDeelname is geheel op eigen risico\, zie ook onze algemene voorwaarden!
URL:https://singlemeetsingle.nl/activiteit/oldtimerdag-diever/
LOCATION:‘t Keernpunt Diever\, Hoofdstraat 48\, Diever\, Drenthe\, 7981 AB\, Netherlands
CATEGORIES:Kunst en cultuur,Markten en braderien
ATTACH;FMTTYPE=image/jpeg:https://singlemeetsingle.nl/wp-content/uploads/2026/04/Oldtimerdag.jpg
GEO:52.8552752;6.3171204
X-APPLE-STRUCTURED-LOCATION;VALUE=URI;X-ADDRESS=‘t Keernpunt Diever Hoofdstraat 48 Diever Drenthe 7981 AB Netherlands;X-APPLE-RADIUS=500;X-TITLE=Hoofdstraat 48:geo:6.3171204,52.8552752
END:VEVENT
END:VCALENDAR