
BEGIN:VCALENDAR
VERSION:2.0
PRODID:-//Single-Meet-Single - ECPv6.2.2//NONSGML v1.0//EN
CALSCALE:GREGORIAN
METHOD:PUBLISH
X-WR-CALNAME:Single-Meet-Single
X-ORIGINAL-URL:https://singlemeetsingle.nl
X-WR-CALDESC:Evenementen voor Single-Meet-Single
REFRESH-INTERVAL;VALUE=DURATION:PT1H
X-Robots-Tag:noindex
X-PUBLISHED-TTL:PT1H
BEGIN:VTIMEZONE
TZID:Europe/Helsinki
BEGIN:DAYLIGHT
TZOFFSETFROM:+0200
TZOFFSETTO:+0300
TZNAME:EEST
DTSTART:20260329T010000
END:DAYLIGHT
BEGIN:STANDARD
TZOFFSETFROM:+0300
TZOFFSETTO:+0200
TZNAME:EET
DTSTART:20261025T010000
END:STANDARD
END:VTIMEZONE
BEGIN:VEVENT
DTSTART;TZID=Europe/Helsinki:20260425T200000
DTEND;TZID=Europe/Helsinki:20260426T010000
DTSTAMP:20260426T013311
CREATED:20251104T132006Z
LAST-MODIFIED:20251231T144140Z
UID:10000131-1777147200-1777165200@singlemeetsingle.nl
SUMMARY:Single Meet Single Party Arnhem Velp 25-04-2026
DESCRIPTION:Single Meet Single Party Arnhem Velp 25-04-2026- 80’s\, 90’s\, 00’s till now  \n\nDatum: Zaterdag 25 april 2026\nTijd: 20:00-01:00\nConcept: 80’s\, 90’s\, 00’s till now\nLocatie: Venue13 – Velp\nAdres: Kastanjelaan 13\, 6883 HZ\, Velp\nLeeftijd: Toegang voor singles vanaf 30 jaar tot ver daarboven\nTickets: \nEarly Bird: € 13\,50 \nRegular: € 16\,00\nAan de deur € 20\,00\n Fee: € 1\,50\nLedenkorting: Dit feest is voor iedere single toegankelijk maar geldt er een korting van €2\,50 voor full member leden. Log in als lid en bestel dan je tickets en druk op de button “ik ga” en geniet samen met andere leden van dit evenement. Gezellig toch!!\nSfeerimpressie: https://singlemeetsingle.nl/single-meet-single-platform/foto-videos/\n\n \nWat kun je verwachten \nSingle Meet Single terug met onze voorjaarseditie van het gezelligste single feest van Arnhem/Velp en omstreken. Vanaf 20.00 uur is iedere single van 30 jaar en veel ouder van harte welkom op deze prachtige locatie. Ervaar de geweldige sfeer en geniet van alle danceable hits uit de 80’s\, 90’s\, 00’s till now. Qua muziek draaien we zeker niet alleen de bekende disco hits\, maar ook funk\, groove en een vleugje house. Ontmoet ook de leukste singles van Arnhem en omstreken en geniet van de lekkerste hits! \nGa of ben je geïnteresseerd in dit evenement laat dit dan weten via Facebook: \nKortom\, koop nu je ticket en je bent gegarandeerd van een complete avond uit en een fantastisch singlefeest!  \nP.S: Ben je single en wil je niet alleen naar dit feest\, dan is het toegestaan tegen betaling een vriend of vriendin die geen single is mee te nemen. Deze singleparty is niet gericht op dating maar een leuke avond voor gelijkgestemden. \nParkeren: Parkeren: Gratis parkeren openbaar in de naaste omgeving \n 
URL:https://singlemeetsingle.nl/activiteit/single-meet-single-party-arnhem-velp-25-04-2026/
LOCATION:Venue 13\, Kastanjelaan 13\, Velp\, 6883 HZ\, Nederland
CATEGORIES:Dansen en uitgaan
ATTACH;FMTTYPE=image/png:https://singlemeetsingle.nl/wp-content/uploads/2025/11/2026-04-25-Arnhem-Velp_facebook-event.png
GEO:51.9943126;5.9802853
X-APPLE-STRUCTURED-LOCATION;VALUE=URI;X-ADDRESS=Venue 13 Kastanjelaan 13 Velp 6883 HZ Nederland;X-APPLE-RADIUS=500;X-TITLE=Kastanjelaan 13:geo:5.9802853,51.9943126
END:VEVENT
BEGIN:VEVENT
DTSTART;TZID=Europe/Helsinki:20260426T134500
DTEND;TZID=Europe/Helsinki:20260426T163000
DTSTAMP:20260426T013311
CREATED:20260224T094019Z
LAST-MODIFIED:20260318T161032Z
UID:10000162-1777211100-1777221000@singlemeetsingle.nl
SUMMARY:Wandeling Winschoten
DESCRIPTION:Wandeling Winschoten \nGa lekker mee op pad tijdens de wandeling in Winschoten op Zondag 26 April 2026. \nWe starten om 14.00 bij Gastrobar MOOD\, middenin Rosarium Winschoten. \nGeniet van een ontspannen wandeling door het prachtige Rosarium Winschoten. Deze betoverende rozentuin\, nabij de gastrobar\, biedt een rustgevende sfeer waar natuur en historie samenkomen. \nDeze route is ongeveer 5 kilometer. \nNa de wandeling is er nog een mogelijkheid om even een drankje te doen op eigen kosten. \nLet op: Single Meet Single is initiatiefnemer van deze activiteit maar is hier zelf niet bij aanwezig. In de chat onder deze activiteit heb je de gelegenheid om zaken af te stemmen met andere deelnemers. \nZelf een activiteit organiseren? Zie hier hoe eenvoudig dit gaat:  https://singlemeetsingle.nl/organizer/ \nDeelname is geheel op eigen risico\, zie ook onze algemene voorwaarden! \n\n 
URL:https://singlemeetsingle.nl/activiteit/wandeling-winschoten/
LOCATION:Gastrobar MOOD\, Parklaan 1A\, Winschoten\, 9675 AB\, Netherlands
CATEGORIES:Wandelen en Fietsen
ATTACH;FMTTYPE=image/jpeg:https://singlemeetsingle.nl/wp-content/uploads/2026/02/fietsen.jpg
GEO:53.1486987;7.0395707
X-APPLE-STRUCTURED-LOCATION;VALUE=URI;X-ADDRESS=Gastrobar MOOD Parklaan 1A Winschoten 9675 AB Netherlands;X-APPLE-RADIUS=500;X-TITLE=Parklaan 1A:geo:7.0395707,53.1486987
END:VEVENT
BEGIN:VEVENT
DTSTART;TZID=Europe/Helsinki:20260426T134500
DTEND;TZID=Europe/Helsinki:20260426T163000
DTSTAMP:20260426T013311
CREATED:20260224T100523Z
LAST-MODIFIED:20260318T160940Z
UID:10000164-1777211100-1777221000@singlemeetsingle.nl
SUMMARY:Wandeling Sneek
DESCRIPTION:Wandeling Sneek \nGa lekker mee op pad tijdens de wandeling in Sneek op Zondag 26 April 2026. \nWe starten om 14.00 bij Restaurant aan de Gracht. \nWandel door Sneek langs de Waterpoort\, sfeervolle grachten en de 11fountains-fontein\, en ontdek hoe water en fortuin al eeuwen het verhaal van de stad bepalen. Wandelroute 11fountains: Sneek | VVV Friesland Zuidwest \nDe route is 3\,1 kilometer \nNa de wandeling is er nog een mogelijkheid om even een drankje te doen op eigen kosten. \nLet op: Single Meet Single is initiatiefnemer van deze activiteit maar is hier zelf niet bij aanwezig. In de chat onder deze activiteit heb je de gelegenheid om zaken af te stemmen met andere deelnemers. \nZelf een activiteit organiseren? Zie hier hoe eenvoudig dit gaat:  https://singlemeetsingle.nl/organizer/ \nDeelname is geheel op eigen risico\, zie ook onze algemene voorwaarden! \n\n 
URL:https://singlemeetsingle.nl/activiteit/wandeling-sneek/
LOCATION:Restaurant aan de Gracht\, Grootzand 4\, Sneek\, 8601 AW\, Netherlands
CATEGORIES:Wandelen en Fietsen
ATTACH;FMTTYPE=image/jpeg:https://singlemeetsingle.nl/wp-content/uploads/2026/02/fietsen.jpg
GEO:53.0320235;5.6615738
X-APPLE-STRUCTURED-LOCATION;VALUE=URI;X-ADDRESS=Restaurant aan de Gracht Grootzand 4 Sneek 8601 AW Netherlands;X-APPLE-RADIUS=500;X-TITLE=Grootzand 4:geo:5.6615738,53.0320235
END:VEVENT
BEGIN:VEVENT
DTSTART;TZID=Europe/Helsinki:20260426T134500
DTEND;TZID=Europe/Helsinki:20260426T163000
DTSTAMP:20260426T013311
CREATED:20260224T102012Z
LAST-MODIFIED:20260318T160632Z
UID:10000165-1777211100-1777221000@singlemeetsingle.nl
SUMMARY:Wandeling Zutphen
DESCRIPTION:Wandeling Zutphen \nGa lekker mee op pad tijdens de wandeling in Zutphen op Zondag 26 April 2026. \nWe starten om 14.00 bij Het Volkshuis Zutphen met deze wandeling Stadsrandwandeling Zutphen | Wandelroute in Zutphen \n\nDe wandeling is 7\,09 kilometer en volg deze borden: \n\n \nNa de wandeling is er nog een mogelijkheid om even een drankje te doen op eigen kosten. \nLet op: Single Meet Single is initiatiefnemer van deze activiteit maar is hier zelf niet bij aanwezig. In de chat onder deze activiteit heb je de gelegenheid om zaken af te stemmen met andere deelnemers. \nZelf een activiteit organiseren? Zie hier hoe eenvoudig dit gaat:  https://singlemeetsingle.nl/organizer/ \nDeelname is geheel op eigen risico\, zie ook onze algemene voorwaarden! \n\n 
URL:https://singlemeetsingle.nl/activiteit/wandeling-zutphen/
LOCATION:Volkshuis Zutphen\, Hotmarkt 62\, Zutphen\, 7201 KM\, Netherlands
CATEGORIES:Wandelen en Fietsen
ATTACH;FMTTYPE=image/jpeg:https://singlemeetsingle.nl/wp-content/uploads/2026/02/fietsen.jpg
GEO:52.1409082;6.1964351
X-APPLE-STRUCTURED-LOCATION;VALUE=URI;X-ADDRESS=Volkshuis Zutphen Hotmarkt 62 Zutphen 7201 KM Netherlands;X-APPLE-RADIUS=500;X-TITLE=Hotmarkt 62:geo:6.1964351,52.1409082
END:VEVENT
BEGIN:VEVENT
DTSTART;TZID=Europe/Helsinki:20260426T134500
DTEND;TZID=Europe/Helsinki:20260426T163000
DTSTAMP:20260426T013311
CREATED:20260224T103607Z
LAST-MODIFIED:20260318T160323Z
UID:10000166-1777211100-1777221000@singlemeetsingle.nl
SUMMARY:Wandeling Meppel
DESCRIPTION:Wandeling Meppel \nGa lekker mee op pad tijdens de wandeling in Meppel op Zondag 26 April 2026. \nWe starten om 14.00 bij Café La Porte vlakbij het station. \nDeze wandeling is 16 kilometer: Trage Tocht Meppel (stadse tocht) \nNa de wandeling is er nog een mogelijkheid om even een drankje te doen op eigen kosten. \nLet op: Single Meet Single is initiatiefnemer van deze activiteit maar is hier zelf niet bij aanwezig. In de chat onder deze activiteit heb je de gelegenheid om zaken af te stemmen met andere deelnemers. \nZelf een activiteit organiseren? Zie hier hoe eenvoudig dit gaat:  https://singlemeetsingle.nl/organizer/ \nDeelname is geheel op eigen risico\, zie ook onze algemene voorwaarden! \n\n 
URL:https://singlemeetsingle.nl/activiteit/wandeling-meppel/
LOCATION:Café La Porte\, Stationsweg 51\, Meppel\, 7941 HC\, Netherlands
CATEGORIES:Wandelen en Fietsen
ATTACH;FMTTYPE=image/jpeg:https://singlemeetsingle.nl/wp-content/uploads/2026/02/fietsen.jpg
GEO:52.6924002;6.1971876
X-APPLE-STRUCTURED-LOCATION;VALUE=URI;X-ADDRESS=Café La Porte Stationsweg 51 Meppel 7941 HC Netherlands;X-APPLE-RADIUS=500;X-TITLE=Stationsweg 51:geo:6.1971876,52.6924002
END:VEVENT
BEGIN:VEVENT
DTSTART;TZID=Europe/Helsinki:20260426T134500
DTEND;TZID=Europe/Helsinki:20260426T163000
DTSTAMP:20260426T013311
CREATED:20260224T105727Z
LAST-MODIFIED:20260318T160155Z
UID:10000167-1777211100-1777221000@singlemeetsingle.nl
SUMMARY:Wandeling Hengelo
DESCRIPTION:Wandeling Hengelo \nGa lekker mee op pad tijdens de wandeling in Hengelo op Zondag 26 April 2026. \nWe starten om 14.00 bij .Café De Veldhoek \nVeldhoekroute | Afwisselende wandelroute door Veldhoek \nDe route is 8\,25 kilometer en volg deze borden: \n \nNa de wandeling is er nog een mogelijkheid om even een drankje te doen op eigen kosten. \nLet op: Single Meet Single is initiatiefnemer van deze activiteit maar is hier zelf niet bij aanwezig. In de chat onder deze activiteit heb je de gelegenheid om zaken af te stemmen met andere deelnemers. \nZelf een activiteit organiseren? Zie hier hoe eenvoudig dit gaat:  https://singlemeetsingle.nl/organizer/ \nDeelname is geheel op eigen risico\, zie ook onze algemene voorwaarden! \n\n 
URL:https://singlemeetsingle.nl/activiteit/wandeling-hengelo/
LOCATION:Café De Veldhoek\, Varsselseweg 55\, Hengelo\, 7255 NR\, Netherlands
CATEGORIES:Wandelen en Fietsen
ATTACH;FMTTYPE=image/jpeg:https://singlemeetsingle.nl/wp-content/uploads/2026/02/fietsen.jpg
GEO:52.0537011;6.4041133
X-APPLE-STRUCTURED-LOCATION;VALUE=URI;X-ADDRESS=Café De Veldhoek Varsselseweg 55 Hengelo 7255 NR Netherlands;X-APPLE-RADIUS=500;X-TITLE=Varsselseweg 55:geo:6.4041133,52.0537011
END:VEVENT
BEGIN:VEVENT
DTSTART;TZID=Europe/Helsinki:20260426T134500
DTEND;TZID=Europe/Helsinki:20260426T163000
DTSTAMP:20260426T013311
CREATED:20260224T111248Z
LAST-MODIFIED:20260318T155851Z
UID:10000168-1777211100-1777221000@singlemeetsingle.nl
SUMMARY:Wandeling Veenendaal
DESCRIPTION:Wandeling Veenendaal \nGa lekker mee op pad tijdens de wandeling in Veenendaal op Zondag 26 April 2026. \nWe starten om 14.00 uur bij Grebbelounge. \nHet is een buitenwandeling over het Fort aan de Buursteeg. De wandeling van 2\,5 km leidt langs de sporen van meer dan 200 jaar militaire geschiedenis in een mooi natuurgebied. \nDe wandelkaart ligt klaar bij de balie (€ 1\,20) voor een afwisselende tocht van ongeveer 45 minuten langs intacte en gehavende kazematten\, een Duitse bunker en loopgraafreconstructies. \nNa de wandeling is er nog een mogelijkheid om even een drankje te doen op eigen kosten. \nLet op: Single Meet Single is initiatiefnemer van deze activiteit maar is hier zelf niet bij aanwezig. In de chat onder deze activiteit heb je de gelegenheid om zaken af te stemmen met andere deelnemers. \nZelf een activiteit organiseren? Zie hier hoe eenvoudig dit gaat:  https://singlemeetsingle.nl/organizer/ \nDeelname is geheel op eigen risico\, zie ook onze algemene voorwaarden! \n\n 
URL:https://singlemeetsingle.nl/activiteit/wandeling-veenendaal/
LOCATION:Grebbelounge\, Buursteeg 2\, Renswoude\, 3927 EJ\, Netherlands
CATEGORIES:Wandelen en Fietsen
ATTACH;FMTTYPE=image/jpeg:https://singlemeetsingle.nl/wp-content/uploads/2026/02/fietsen.jpg
GEO:52.0493379;5.5563017
X-APPLE-STRUCTURED-LOCATION;VALUE=URI;X-ADDRESS=Grebbelounge Buursteeg 2 Renswoude 3927 EJ Netherlands;X-APPLE-RADIUS=500;X-TITLE=Buursteeg 2:geo:5.5563017,52.0493379
END:VEVENT
END:VCALENDAR