
BEGIN:VCALENDAR
VERSION:2.0
PRODID:-//Single-Meet-Single - ECPv6.2.2//NONSGML v1.0//EN
CALSCALE:GREGORIAN
METHOD:PUBLISH
X-WR-CALNAME:Single-Meet-Single
X-ORIGINAL-URL:https://singlemeetsingle.nl
X-WR-CALDESC:Evenementen voor Single-Meet-Single
REFRESH-INTERVAL;VALUE=DURATION:PT1H
X-Robots-Tag:noindex
X-PUBLISHED-TTL:PT1H
BEGIN:VTIMEZONE
TZID:Europe/Helsinki
BEGIN:DAYLIGHT
TZOFFSETFROM:+0200
TZOFFSETTO:+0300
TZNAME:EEST
DTSTART:20260329T010000
END:DAYLIGHT
BEGIN:STANDARD
TZOFFSETFROM:+0300
TZOFFSETTO:+0200
TZNAME:EET
DTSTART:20261025T010000
END:STANDARD
END:VTIMEZONE
BEGIN:VEVENT
DTSTART;TZID=Europe/Helsinki:20260606T140000
DTEND;TZID=Europe/Helsinki:20260606T170000
DTSTAMP:20260424T144429
CREATED:20260420T100124Z
LAST-MODIFIED:20260420T100124Z
UID:10000204-1780754400-1780765200@singlemeetsingle.nl
SUMMARY:Escape room Drachten
DESCRIPTION:🕵️‍♂️ Escape Room avontuur! 🔐 \nDurf jij de uitdaging aan…? \nOp 6 juni gaan we een mysterieuze missie starten bij Ruby Escape Rooms in Drachten. Hier wachten meerdere spannende kamers op ons – van een magische trein tot een gevangenis waaruit we moeten ontsnappen 😏 \n🧩 Wat kun je verwachten? \n\nSamen puzzels oplossen\nCodes kraken en geheimen ontdekken\nBinnen 60 minuten proberen te ontsnappen…\n\n📍 Locatie: Ruby Escape Rooms in Drachten\n⏰ Tijd: 14.00 \nOf we nu ontsnappen of niet… het wordt sowieso een avontuur om niet te vergeten 😈 \nLet the game begin… 🔑 \nKosten zijn op basis van het aantal personen. \nNa de escape room is er nog een mogelijkheid om even een drankje te doen op eigen kosten. \nLet op: Single Meet Single is initiatiefnemer van deze activiteit maar is hier zelf niet bij aanwezig. In de chat onder deze activiteit heb je de gelegenheid om zaken af te stemmen met andere deelnemers. Er dient zelf een reservering gemaakt te worden. \nZelf een activiteit organiseren? Zie hier hoe eenvoudig dit gaat:  https://singlemeetsingle.nl/organizer/ \nDeelname is geheel op eigen risico\, zie ook onze algemene voorwaarden!
URL:https://singlemeetsingle.nl/activiteit/escape-room-drachten/
LOCATION:Ruby Escape Rooms Drachten\, Morra 2-15\, Drachten\, Friesland\, 9204KH\, Netherlands
CATEGORIES:Sport en spel
ATTACH;FMTTYPE=image/jpeg:https://singlemeetsingle.nl/wp-content/uploads/2026/04/Escape-room.jpg
GEO:53.0922584;6.0692873
X-APPLE-STRUCTURED-LOCATION;VALUE=URI;X-ADDRESS=Ruby Escape Rooms Drachten Morra 2-15 Drachten Friesland 9204KH Netherlands;X-APPLE-RADIUS=500;X-TITLE=Morra 2-15:geo:6.0692873,53.0922584
END:VEVENT
BEGIN:VEVENT
DTSTART;TZID=Europe/Helsinki:20260606T140000
DTEND;TZID=Europe/Helsinki:20260606T230000
DTSTAMP:20260424T144429
CREATED:20260416T114610Z
LAST-MODIFIED:20260416T124110Z
UID:10000195-1780754400-1780786800@singlemeetsingle.nl
SUMMARY:Tapt Festival Nijmegen 6 juni 2026
DESCRIPTION:Tapt Festival Nijmegen 6 juni 2026 \nNIJMEGEN – het is weer tijd om te proosten! Deze zomer zijn we terug. Op zaterdag 6 juni nemen we Park Winkelsteeg over om er één groot borrelfestival van te maken. Zien we jullie daar?! \nDe TAPT-formule is simpel: eten\, drinken\, dansen\, spelen. Van meeblèren tijdens de altijd populaire Disco Bingo tot op zoek gaan naar jouw borrelmaatje tijdens het speeddaten: er is voor ieder wat wils. Je start rustig in het zonnetje met een drankje\, een spelletje en goed eten\, en eindigt (per ongeluk) met een verloren stem vooraan op de dansvloer. \nKortom\, perfecte ingrediënten voor een leuk dagje weg. \nWe spreken af om 14.00 uur bij de ingang. \nTickets: Tapt Festival Nijmegen 6 juni 2026 \n \nLet op: Single Meet Single is initiatiefnemer van deze activiteit maar is hier zelf niet bij aanwezig. In de chat onder deze activiteit heb je de gelegenheid om zaken af te stemmen met andere deelnemers. \nZelf een activiteit organiseren? Zie hier hoe eenvoudig dit gaat:  https://singlemeetsingle.nl/organizer/ \nDit is een activiteit met een beperkt aantal deelnemers. Deelname is geheel op eigen risico\, zie ook onze algemene voorwaarden!
URL:https://singlemeetsingle.nl/activiteit/tapt-festival-nijmegen-6-juni-2026/
LOCATION:Tapt Festival Nijmegen\, Winkelsteegseweg 215\, Nijmegen\, 6534 AP
CATEGORIES:Kunst en cultuur,Uit eten en borrelen
ATTACH;FMTTYPE=image/jpeg:https://singlemeetsingle.nl/wp-content/uploads/2026/04/tapt-festival-2.jpg
GEO:51.8151162;5.817989
X-APPLE-STRUCTURED-LOCATION;VALUE=URI;X-ADDRESS=Tapt Festival Nijmegen Winkelsteegseweg 215 Nijmegen 6534 AP;X-APPLE-RADIUS=500;X-TITLE=Winkelsteegseweg 215:geo:5.817989,51.8151162
END:VEVENT
BEGIN:VEVENT
DTSTART;TZID=Europe/Helsinki:20260614T130000
DTEND;TZID=Europe/Helsinki:20260614T150000
DTSTAMP:20260424T144429
CREATED:20260420T125513Z
LAST-MODIFIED:20260420T125513Z
UID:10000206-1781442000-1781449200@singlemeetsingle.nl
SUMMARY:Wandeling Bakkeveense Duinen
DESCRIPTION:🌿 Gezellige wandeling in de Bakkeveense Duinen 🌿 \nGa mee voor een ontspannen en gezellige wandeling in het prachtige Mandefjild\, vlakbij Drachten\, in Bakkeveen. \nWe gaan samen genieten van de natuur\, frisse lucht en hopelijk mooi weer 🌞. Het gebied staat bekend om zijn afwisselende landschap met heide\, bos en open velden—perfect om even helemaal tot rust te komen. \n📍 Locatie: Mandefjild\, Bakkeveen\, je kunt parkeren bij de Dwaler in Bakkeveen\n🕒 Datum & tijd: 14 juni om 13.00  verzamelen\n🥾 Wat neem je mee: Wandelschoenen\, eventueel iets te drinken/eten\, en natuurlijk een goed humeur! \n \nEr kan gekozen worden voor 1\,5\, 3\,5 of 8 km. \nNa afloop kan er nog gezellig nagepraat worden onder het  genot van een drankje. \nLet op: Single Meet Single is initiatiefnemer van deze activiteit maar is hier zelf niet bij aanwezig. In de chat onder deze activiteit heb je de gelegenheid om zaken af te stemmen met andere deelnemers. \nZelf een activiteit organiseren? Zie hier hoe eenvoudig dit gaat:  https://singlemeetsingle.nl/organizer/ \nDeelname is geheel op eigen risico\, zie ook onze algemene voorwaarden!
URL:https://singlemeetsingle.nl/activiteit/wandeling-bakkeveense-duinen/
LOCATION:De Dwaler Bakkeveen\, Mjûmster Wei 16c\, Bakkeveen\, Friesland\, 9243 SK\, Netherlands
CATEGORIES:Wandelen en Fietsen
ATTACH;FMTTYPE=image/jpeg:https://singlemeetsingle.nl/wp-content/uploads/2026/04/Wandelen.jpg
GEO:53.0816483;6.265831
X-APPLE-STRUCTURED-LOCATION;VALUE=URI;X-ADDRESS=De Dwaler Bakkeveen Mjûmster Wei 16c Bakkeveen Friesland 9243 SK Netherlands;X-APPLE-RADIUS=500;X-TITLE=Mjûmster Wei 16c:geo:6.265831,53.0816483
END:VEVENT
BEGIN:VEVENT
DTSTART;TZID=Europe/Helsinki:20260621T130000
DTEND;TZID=Europe/Helsinki:20260621T160000
DTSTAMP:20260424T144429
CREATED:20260420T185043Z
LAST-MODIFIED:20260420T185241Z
UID:10000207-1782046800-1782057600@singlemeetsingle.nl
SUMMARY:Stadswandeling Amersfoort
DESCRIPTION:Stadswandeling Amersfoort \nZin in een gezellige middag vol nieuwe ontmoetingen\, mooie gesprekken en een vleugje historie? Sluit je aan bij deze bijzondere stadswandeling door het hart van Amersfoort! 🚶‍♀️✨ \nTijdens deze ontspannen wandeling ontdek je samen met anderen de charme van Amersfoort: van sfeervolle straatjes en middeleeuwse muren tot iconische plekken zoals de Koppelpoort en de Onze Lieve Vrouwetoren. \nGa lekker mee op pad tijdens de historische stadswandeling in Amersfoort op zondag 21 juni 2026. 📅 \n🕐 Starttijd: 13:00 uur📍 Startlocatie: bij de Onze Lieve Vrouwetoren (Nummer 7 op de kaart) \n🚶‍♂️ Historische wandeling door centrum Amersfoort\nDe route duurt circa 1 tot 1\,5 uur. Onderweg is er volop ruimte om elkaar te leren kennen en te genieten van alles wat deze prachtige stad te bieden heeft. \n👉 Route bekijken: klik hier \nKom gezellig mee en ontdek Amersfoort samen! 😊 \n \nNa de wandeling is er nog een mogelijkheid om even een drankje te doen op eigen kosten bij het gezellige Stadscafe Amersfoort. \nLet op: Single Meet Single is initiatiefnemer van deze activiteit maar is hier zelf niet bij aanwezig. In de chat onder deze activiteit heb je de gelegenheid om zaken af te stemmen met andere deelnemers. \nZelf een activiteit organiseren? Zie hier hoe eenvoudig dit gaat:  https://singlemeetsingle.nl/organizer/ \nDeelname is geheel op eigen risico\, zie ook onze algemene voorwaarden! \n\n 
URL:https://singlemeetsingle.nl/activiteit/stadswandeling-amersfoort-1/
LOCATION:Onze Lieve Vrouwentoren\, Krankeledenstraat 30\, Amersfoort\, Utrecht\, 3811 BN\, Netherlands
CATEGORIES:Wandelen en Fietsen
ATTACH;FMTTYPE=image/jpeg:https://singlemeetsingle.nl/wp-content/uploads/2026/04/Stad-Amersfoort.jpg
GEO:52.1552124;5.3872476
X-APPLE-STRUCTURED-LOCATION;VALUE=URI;X-ADDRESS=Onze Lieve Vrouwentoren Krankeledenstraat 30 Amersfoort Utrecht 3811 BN Netherlands;X-APPLE-RADIUS=500;X-TITLE=Krankeledenstraat 30:geo:5.3872476,52.1552124
END:VEVENT
BEGIN:VEVENT
DTSTART;TZID=Europe/Helsinki:20260621T150000
DTEND;TZID=Europe/Helsinki:20260621T180000
DTSTAMP:20260424T144429
CREATED:20260420T102040Z
LAST-MODIFIED:20260420T102040Z
UID:10000205-1782054000-1782064800@singlemeetsingle.nl
SUMMARY:Bowlen in Drachten
DESCRIPTION:🎳 Bowlen in Drachten! 🎳 \nHey! \nHeb jij zin in een gezellige en sportieve avond?\nKom dan samen gaan bowlen bij Bowling & Partycentrum Drachten! \n🔥 Wat kun je verwachten?\n• Gezellig samen bowlen op moderne banen\n• Muziek\, sfeer en misschien wat competitie 😉\n• Mogelijkheid voor lekkere hapjes en drankjes \n📍 Locatie: Lavendelheide 4\, Drachten \n📅 Datum: 21 juni 2026\n🕒 Tijdstip: 15.00 uur \nKosten zijn 32\,50 per baan per uur. \nNa het bowlen is er nog een mogelijkheid om even een drankje te doen op eigen kosten. \nLet op: Single Meet Single is initiatiefnemer van deze activiteit maar is hier zelf niet bij aanwezig. In de chat onder deze activiteit heb je de gelegenheid om zaken af te stemmen met andere deelnemers. Er dient zelf een reservering gemaakt te worden. \nZelf een activiteit organiseren? Zie hier hoe eenvoudig dit gaat:  https://singlemeetsingle.nl/organizer/ \nDeelname is geheel op eigen risico\, zie ook onze algemene voorwaarden!
URL:https://singlemeetsingle.nl/activiteit/bowlen-in-drachten/
LOCATION:Bowling & Partycentrum Drachten\, Lavendelheide 4\, Drachten\, Friesland\, 9202 PD\, Netherlands
CATEGORIES:Sport en spel
ATTACH;FMTTYPE=image/jpeg:https://singlemeetsingle.nl/wp-content/uploads/2026/04/Bowlen.jpg
GEO:53.1058202;6.1273509
X-APPLE-STRUCTURED-LOCATION;VALUE=URI;X-ADDRESS=Bowling & Partycentrum Drachten Lavendelheide 4 Drachten Friesland 9202 PD Netherlands;X-APPLE-RADIUS=500;X-TITLE=Lavendelheide 4:geo:6.1273509,53.1058202
END:VEVENT
BEGIN:VEVENT
DTSTART;TZID=Europe/Helsinki:20260627T170000
DTEND;TZID=Europe/Helsinki:20260627T210000
DTSTAMP:20260424T144429
CREATED:20260414T062652Z
LAST-MODIFIED:20260414T063543Z
UID:10000189-1782579600-1782594000@singlemeetsingle.nl
SUMMARY:Foodtruck Festival Lepeltje Lepeltje Utrecht
DESCRIPTION:Foodtruck Festival Lepeltje Lepeltje \nZin in een gezellige dag vol lekker eten\, muziek en een ontspannen sfeer? Ga mee naar het Foodtruck Festival Lepeltje Lepeltje! \nWe verzamelen op het festivalterrein\, waar je direct wordt ondergedompeld in een levendige sfeer met een gevarieerd aanbod aan foodtrucks\, verrassende gerechten en gezellige muziek. Van hartig tot zoet\, er is voor ieder wat wils om te proeven en te ontdekken. \nStruin samen langs de verschillende kraampjes\, geniet van live muziek en neem de tijd om lekker te ontspannen met een hapje en een drankje. Er is volop ruimte om in een ongedwongen setting nieuwe mensen te ontmoeten en samen te genieten van alles wat het festival te bieden heeft. \nDatum\nZaterdag 27 juni 2026 – 17:00 uur \nToegang\nGratis (eten en drinken voor eigen rekening) \nLet op: Single Meet Single is initiatiefnemer van deze activiteit maar is hier zelf niet bij aanwezig. In de chat onder deze activiteit heb je de gelegenheid om zaken af te stemmen met andere deelnemers. Stem samen af waar je afspreekt rond 17:00 uur. \nZelf een activiteit organiseren? Zie hier hoe eenvoudig dit gaat: https://singlemeetsingle.nl/organizer/ \nDeelname is geheel op eigen risico\, zie ook onze algemene voorwaarden!
URL:https://singlemeetsingle.nl/activiteit/foodtruck-festival-lepeltje-lepeltje-utrecht/
LOCATION:Park Lepelenburg\, Park Lepelenburg\, Utrecht\, Utrecht\, 3512 NJ
CATEGORIES:Dansen en uitgaan,Uit eten en borrelen
ATTACH;FMTTYPE=image/jpeg:https://singlemeetsingle.nl/wp-content/uploads/2026/04/Lepeltje-Lepeltje-1.jpg
GEO:52.0894913;5.1282834
X-APPLE-STRUCTURED-LOCATION;VALUE=URI;X-ADDRESS=Park Lepelenburg Park Lepelenburg Utrecht Utrecht 3512 NJ;X-APPLE-RADIUS=500;X-TITLE=Park Lepelenburg:geo:5.1282834,52.0894913
END:VEVENT
BEGIN:VEVENT
DTSTART;TZID=Europe/Helsinki:20260711T110000
DTEND;TZID=Europe/Helsinki:20260711T170000
DTSTAMP:20260424T144429
CREATED:20260420T091553Z
LAST-MODIFIED:20260420T100246Z
UID:10000202-1783767600-1783789200@singlemeetsingle.nl
SUMMARY:Oldtimerdag Diever
DESCRIPTION:Oldtimerdag Diever 2026! \nHeb jij een zwak voor klassieke voertuigen of gewoon zin in een gezellige dag uit?\nKom dan naar de Oldtimerdag in Diever op zaterdag 11 juli 2026! \nGeniet van een prachtige verzameling oldtimers\, brommers\, motoren\, tractoren en meer\, allemaal te bewonderen in het sfeervolle centrum van Diever. \n🔧 Wat kun je verwachten?\n• Unieke klassieke voertuigen van dichtbij bekijken\n• Gezellige fair met kraampjes en nostalgische sfeer\n• Rondritten door de omgeving\n• Voor jong én oud volop te beleven \n🎉 Toegang is gratis! \n📍 Locatie: ‘t Keernpunt om 11.00 uur \nKom langs\, proef de sfeer van vroeger en beleef een dag vol nostalgie en gezelligheid! \n👉 Meer info: https://oldtimerdagdiever.nl/ \nZien we jou daar? 🚗💨 \nLet op: Single Meet Single is initiatiefnemer van deze activiteit maar is hier zelf niet bij aanwezig. In de chat onder deze activiteit heb je de gelegenheid om zaken af te stemmen met andere deelnemers. \nZelf een activiteit organiseren? Zie hier hoe eenvoudig dit gaat:  https://singlemeetsingle.nl/organizer/ \nDeelname is geheel op eigen risico\, zie ook onze algemene voorwaarden!
URL:https://singlemeetsingle.nl/activiteit/oldtimerdag-diever/
LOCATION:‘t Keernpunt Diever\, Hoofdstraat 48\, Diever\, Drenthe\, 7981 AB\, Netherlands
CATEGORIES:Kunst en cultuur,Markten en braderien
ATTACH;FMTTYPE=image/jpeg:https://singlemeetsingle.nl/wp-content/uploads/2026/04/Oldtimerdag.jpg
GEO:52.8552752;6.3171204
X-APPLE-STRUCTURED-LOCATION;VALUE=URI;X-ADDRESS=‘t Keernpunt Diever Hoofdstraat 48 Diever Drenthe 7981 AB Netherlands;X-APPLE-RADIUS=500;X-TITLE=Hoofdstraat 48:geo:6.3171204,52.8552752
END:VEVENT
BEGIN:VEVENT
DTSTART;TZID=Europe/Helsinki:20260808T140000
DTEND;TZID=Europe/Helsinki:20260808T230000
DTSTAMP:20260424T144429
CREATED:20260416T123525Z
LAST-MODIFIED:20260416T123619Z
UID:10000196-1786197600-1786230000@singlemeetsingle.nl
SUMMARY:Tapt Festival Enschede 8 augustus 2026
DESCRIPTION:Tapt Festival Enschede 8 augustus 2026 \nENSCHEDE – het is eindelijk zo ver: deze zomer komen we voor de allereerste keer naar jullie toe! Op zaterdag  8 augustus nemen we het Volkspark over om er één groot borrelfestival van te maken. Zien we jullie daar?! \nDe TAPT-formule is simpel: eten\, drinken\, dansen\, spelen. Van meeblèren tijdens de altijd populaire Disco Bingo tot op zoek gaan naar jouw borrelmaatje tijdens het speeddaten: er is voor ieder wat wils. Je start rustig in het zonnetje met een drankje\, een spelletje en goed eten\, en eindigt (per ongeluk) met een verloren stem vooraan op de dansvloer. \nKortom\, perfecte ingrediënten voor een leuk dagje weg. \nWe spreken af om 14.00 uur bij de ingang. \nTickets: Tapt Festival Enschede 8 augustus 2026 \n \nLet op: Single Meet Single is initiatiefnemer van deze activiteit maar is hier zelf niet bij aanwezig. In de chat onder deze activiteit heb je de gelegenheid om zaken af te stemmen met andere deelnemers. \nZelf een activiteit organiseren? Zie hier hoe eenvoudig dit gaat:  https://singlemeetsingle.nl/organizer/ \nDit is een activiteit met een beperkt aantal deelnemers. Deelname is geheel op eigen risico\, zie ook onze algemene voorwaarden!
URL:https://singlemeetsingle.nl/activiteit/tapt-festival-enschede-8-augustus-2026/
LOCATION:Tapt Festival Enschede\, Parkweg 49\, Enschede\, 7513 CN
CATEGORIES:Kunst en cultuur,Uit eten en borrelen
ATTACH;FMTTYPE=image/jpeg:https://singlemeetsingle.nl/wp-content/uploads/2026/04/tapt-festival-2.jpg
GEO:52.22014;6.8785913
X-APPLE-STRUCTURED-LOCATION;VALUE=URI;X-ADDRESS=Tapt Festival Enschede Parkweg 49 Enschede 7513 CN;X-APPLE-RADIUS=500;X-TITLE=Parkweg 49:geo:6.8785913,52.22014
END:VEVENT
BEGIN:VEVENT
DTSTART;TZID=Europe/Helsinki:20260821T170000
DTEND;TZID=Europe/Helsinki:20260821T220000
DTSTAMP:20260424T144429
CREATED:20260413T120544Z
LAST-MODIFIED:20260416T090007Z
UID:10000182-1787331600-1787349600@singlemeetsingle.nl
SUMMARY:Noorderzon Groningen 21 augustus 2026
DESCRIPTION:Noorderzon Groningen 21 augustus 2026 \nBeleef deze zomer de magie van het Noorderplantsoen tijdens Noorderzon in Groningen. Geniet van sfeervol theater\, bijzondere muziek en gezellige terrassen en foodtrucks. \nOf je nu komt voor cultuur of gewoon een fijne avond uit\, Noorderzon biedt gezelligheid en vermaak voor iedereen \nKortom\, perfecte ingrediënten voor een leuke zomeravond. \nWe verzamelen om 17.00 bij cafe de Bres of op een ander tijdstip samen te bepalen in de chat. \nLet op: Single Meet Single is initiatiefnemer van deze activiteit maar is hier zelf niet bij aanwezig. In de chat onder deze activiteit heb je de gelegenheid om zaken af te stemmen met andere deelnemers. \nZelf een activiteit organiseren? Zie hier hoe eenvoudig dit gaat:  https://singlemeetsingle.nl/organizer/ \nDit is een activiteit met een beperkt aantal deelnemers. Deelname is geheel op eigen risico\, zie ook onze algemene voorwaarden!
URL:https://singlemeetsingle.nl/activiteit/noorderzon-groningen-21-augustus-2026/
LOCATION:Noorderplantsoen\, Kerklaan 1\, Groningen\, Groningen\, 9717 HA\, Netherlands
CATEGORIES:Kunst en cultuur,Uit eten en borrelen
ATTACH;FMTTYPE=image/jpeg:https://singlemeetsingle.nl/wp-content/uploads/2026/04/Noorderzon.jpg
GEO:53.2237914;6.5535371
X-APPLE-STRUCTURED-LOCATION;VALUE=URI;X-ADDRESS=Noorderplantsoen Kerklaan 1 Groningen Groningen 9717 HA Netherlands;X-APPLE-RADIUS=500;X-TITLE=Kerklaan 1:geo:6.5535371,53.2237914
END:VEVENT
BEGIN:VEVENT
DTSTART;TZID=Europe/Helsinki:20260822T140000
DTEND;TZID=Europe/Helsinki:20260822T230000
DTSTAMP:20260424T144429
CREATED:20260416T125807Z
LAST-MODIFIED:20260419T130214Z
UID:10000197-1787407200-1787439600@singlemeetsingle.nl
SUMMARY:Tapt Festival Leeuwarden 22 augustus 2026
DESCRIPTION:Tapt Festival Leeuwarden 22 augustus 2026 \nLEEUWWARDEN – het is eindelijk zo ver: deze zomer komen we voor de allereerste keer naar jullie toe! Op 22 augustus nemen we het Oldehoofsterkerkhof over om er één groot borrelfestival van te maken. Zien we jullie daar?! \nDe TAPT-formule is simpel: eten\, drinken\, dansen\, spelen. Van meeblèren tijdens de altijd populaire Disco Bingo tot op zoek gaan naar jouw borrelmaatje tijdens het speeddaten: er is voor ieder wat wils. Je start rustig in het zonnetje met een drankje\, een spelletje en goed eten\, en eindigt (per ongeluk) met een verloren stem vooraan op de dansvloer. \nKortom\, perfecte ingrediënten voor een leuk dagje weg. \nWe spreken af om 14.00 uur bij de ingang. \nTickets: Tapt Festival Leeuwarden 22 augustus 2026 \n \nLet op: Single Meet Single is initiatiefnemer van deze activiteit maar is hier zelf niet bij aanwezig. In de chat onder deze activiteit heb je de gelegenheid om zaken af te stemmen met andere deelnemers. \nZelf een activiteit organiseren? Zie hier hoe eenvoudig dit gaat:  https://singlemeetsingle.nl/organizer/ \nDit is een activiteit met een beperkt aantal deelnemers. Deelname is geheel op eigen risico\, zie ook onze algemene voorwaarden!
URL:https://singlemeetsingle.nl/activiteit/tapt-festival-leeuwarden-22-augustus-2026/
LOCATION:Tapt Festival Leeuwarden\, Oldehoofsterkerkhof 3\, Leeuwarden\, 8911 DM
CATEGORIES:Kunst en cultuur,Uit eten en borrelen
ATTACH;FMTTYPE=image/jpeg:https://singlemeetsingle.nl/wp-content/uploads/2026/04/tapt-festival-2.jpg
GEO:53.2028294;5.7902466
X-APPLE-STRUCTURED-LOCATION;VALUE=URI;X-ADDRESS=Tapt Festival Leeuwarden Oldehoofsterkerkhof 3 Leeuwarden 8911 DM;X-APPLE-RADIUS=500;X-TITLE=Oldehoofsterkerkhof 3:geo:5.7902466,53.2028294
END:VEVENT
BEGIN:VEVENT
DTSTART;TZID=Europe/Helsinki:20260822T170000
DTEND;TZID=Europe/Helsinki:20260822T220000
DTSTAMP:20260424T144429
CREATED:20260413T121724Z
LAST-MODIFIED:20260416T085746Z
UID:10000183-1787418000-1787436000@singlemeetsingle.nl
SUMMARY:Noorderzon Groningen 22 augustus 2026
DESCRIPTION:Noorderzon Groningen 22 augustus 2026 \nBeleef deze zomer de magie van het Noorderplantsoen tijdens Noorderzon in Groningen. Geniet van sfeervol theater\, bijzondere muziek en gezellige terrassen en foodtrucks. \nOf je nu komt voor cultuur of gewoon een fijne avond uit\, Noorderzon biedt gezelligheid en vermaak voor iedereen \nKortom\, perfecte ingrediënten voor een leuke zomeravond. \nWe verzamelen om 17.00 bij cafe de Bres of op een ander tijdstip samen te bepalen in de chat. \nLet op: Single Meet Single is initiatiefnemer van deze activiteit maar is hier zelf niet bij aanwezig. In de chat onder deze activiteit heb je de gelegenheid om zaken af te stemmen met andere deelnemers. \nZelf een activiteit organiseren? Zie hier hoe eenvoudig dit gaat:  https://singlemeetsingle.nl/organizer/ \nDit is een activiteit met een beperkt aantal deelnemers. Deelname is geheel op eigen risico\, zie ook onze algemene voorwaarden!
URL:https://singlemeetsingle.nl/activiteit/noorderzon-groningen-22-augustus-2026/
LOCATION:Noorderplantsoen\, Kerklaan 1\, Groningen\, Groningen\, 9717 HA\, Netherlands
CATEGORIES:Kunst en cultuur,Uit eten en borrelen
ATTACH;FMTTYPE=image/jpeg:https://singlemeetsingle.nl/wp-content/uploads/2026/04/Noorderzon.jpg
GEO:53.2237914;6.5535371
X-APPLE-STRUCTURED-LOCATION;VALUE=URI;X-ADDRESS=Noorderplantsoen Kerklaan 1 Groningen Groningen 9717 HA Netherlands;X-APPLE-RADIUS=500;X-TITLE=Kerklaan 1:geo:6.5535371,53.2237914
END:VEVENT
BEGIN:VEVENT
DTSTART;TZID=Europe/Helsinki:20260823T170000
DTEND;TZID=Europe/Helsinki:20260823T220000
DTSTAMP:20260424T144429
CREATED:20260413T121836Z
LAST-MODIFIED:20260416T090808Z
UID:10000185-1787504400-1787522400@singlemeetsingle.nl
SUMMARY:Noorderzon Groningen 23 augustus 2026
DESCRIPTION:Noorderzon Groningen 23 augustus 2026 \nBeleef deze zomer de magie van het Noorderplantsoen tijdens Noorderzon in Groningen. Geniet van sfeervol theater\, bijzondere muziek en gezellige terrassen en foodtrucks. \nOf je nu komt voor cultuur of gewoon een fijne avond uit\, Noorderzon biedt gezelligheid en vermaak voor iedereen \nKortom\, perfecte ingrediënten voor een leuke zomeravond. \nWe verzamelen om 17.00 bij cafe de Bres of op een ander tijdstip samen te bepalen in de chat. \nLet op: Single Meet Single is initiatiefnemer van deze activiteit maar is hier zelf niet bij aanwezig. In de chat onder deze activiteit heb je de gelegenheid om zaken af te stemmen met andere deelnemers. \nZelf een activiteit organiseren? Zie hier hoe eenvoudig dit gaat:  https://singlemeetsingle.nl/organizer/ \nDit is een activiteit met een beperkt aantal deelnemers. Deelname is geheel op eigen risico\, zie ook onze algemene voorwaarden!
URL:https://singlemeetsingle.nl/activiteit/noorderzon-groningen-23-augustus-2026/
LOCATION:Noorderplantsoen\, Kerklaan 1\, Groningen\, Groningen\, 9717 HA\, Netherlands
CATEGORIES:Kunst en cultuur,Uit eten en borrelen
ATTACH;FMTTYPE=image/jpeg:https://singlemeetsingle.nl/wp-content/uploads/2026/04/Noorderzon.jpg
GEO:53.2237914;6.5535371
X-APPLE-STRUCTURED-LOCATION;VALUE=URI;X-ADDRESS=Noorderplantsoen Kerklaan 1 Groningen Groningen 9717 HA Netherlands;X-APPLE-RADIUS=500;X-TITLE=Kerklaan 1:geo:6.5535371,53.2237914
END:VEVENT
BEGIN:VEVENT
DTSTART;TZID=Europe/Helsinki:20260828T170000
DTEND;TZID=Europe/Helsinki:20260828T220000
DTSTAMP:20260424T144429
CREATED:20260413T121936Z
LAST-MODIFIED:20260416T090626Z
UID:10000186-1787936400-1787954400@singlemeetsingle.nl
SUMMARY:Noorderzon Groningen 28 augustus 2026
DESCRIPTION:Noorderzon Groningen 28 augustus 2026 \nBeleef deze zomer de magie van het Noorderplantsoen tijdens Noorderzon in Groningen. Geniet van sfeervol theater\, bijzondere muziek en gezellige terrassen en foodtrucks. \nOf je nu komt voor cultuur of gewoon een fijne avond uit\, Noorderzon biedt gezelligheid en vermaak voor iedereen \nKortom\, perfecte ingrediënten voor een leuke zomeravond. \nWe verzamelen om 17.00 bij cafe de Bres of op een ander tijdstip samen te bepalen in de chat. \nLet op: Single Meet Single is initiatiefnemer van deze activiteit maar is hier zelf niet bij aanwezig. In de chat onder deze activiteit heb je de gelegenheid om zaken af te stemmen met andere deelnemers. \nZelf een activiteit organiseren? Zie hier hoe eenvoudig dit gaat:  https://singlemeetsingle.nl/organizer/ \nDit is een activiteit met een beperkt aantal deelnemers. Deelname is geheel op eigen risico\, zie ook onze algemene voorwaarden!
URL:https://singlemeetsingle.nl/activiteit/noorderzon-groningen-28-augustus-2026/
LOCATION:Noorderplantsoen\, Kerklaan 1\, Groningen\, Groningen\, 9717 HA\, Netherlands
CATEGORIES:Kunst en cultuur,Uit eten en borrelen
ATTACH;FMTTYPE=image/jpeg:https://singlemeetsingle.nl/wp-content/uploads/2026/04/Noorderzon.jpg
GEO:53.2237914;6.5535371
X-APPLE-STRUCTURED-LOCATION;VALUE=URI;X-ADDRESS=Noorderplantsoen Kerklaan 1 Groningen Groningen 9717 HA Netherlands;X-APPLE-RADIUS=500;X-TITLE=Kerklaan 1:geo:6.5535371,53.2237914
END:VEVENT
BEGIN:VEVENT
DTSTART;TZID=Europe/Helsinki:20260829T170000
DTEND;TZID=Europe/Helsinki:20260829T220000
DTSTAMP:20260424T144429
CREATED:20260413T122034Z
LAST-MODIFIED:20260416T090453Z
UID:10000187-1788022800-1788040800@singlemeetsingle.nl
SUMMARY:Noorderzon Groningen 29 augustus 2026
DESCRIPTION:Noorderzon Groningen 29 augustus 2026 \nBeleef deze zomer de magie van het Noorderplantsoen tijdens Noorderzon in Groningen. Geniet van sfeervol theater\, bijzondere muziek en gezellige terrassen en foodtrucks. \nOf je nu komt voor cultuur of gewoon een fijne avond uit\, Noorderzon biedt gezelligheid en vermaak voor iedereen \nKortom\, perfecte ingrediënten voor een leuke zomeravond. \nWe verzamelen om 17.00 bij cafe de Bres of op een ander tijdstip samen te bepalen in de chat. \nLet op: Single Meet Single is initiatiefnemer van deze activiteit maar is hier zelf niet bij aanwezig. In de chat onder deze activiteit heb je de gelegenheid om zaken af te stemmen met andere deelnemers. \nZelf een activiteit organiseren? Zie hier hoe eenvoudig dit gaat:  https://singlemeetsingle.nl/organizer/ \nDit is een activiteit met een beperkt aantal deelnemers. Deelname is geheel op eigen risico\, zie ook onze algemene voorwaarden!
URL:https://singlemeetsingle.nl/activiteit/noorderzon-groningen-29-augustus-2026/
LOCATION:Noorderplantsoen\, Kerklaan 1\, Groningen\, Groningen\, 9717 HA\, Netherlands
CATEGORIES:Kunst en cultuur,Uit eten en borrelen
ATTACH;FMTTYPE=image/jpeg:https://singlemeetsingle.nl/wp-content/uploads/2026/04/Noorderzon.jpg
GEO:53.2237914;6.5535371
X-APPLE-STRUCTURED-LOCATION;VALUE=URI;X-ADDRESS=Noorderplantsoen Kerklaan 1 Groningen Groningen 9717 HA Netherlands;X-APPLE-RADIUS=500;X-TITLE=Kerklaan 1:geo:6.5535371,53.2237914
END:VEVENT
BEGIN:VEVENT
DTSTART;TZID=Europe/Helsinki:20260830T140000
DTEND;TZID=Europe/Helsinki:20260830T210000
DTSTAMP:20260424T144429
CREATED:20260413T122124Z
LAST-MODIFIED:20260416T090314Z
UID:10000188-1788098400-1788123600@singlemeetsingle.nl
SUMMARY:Noorderzon Groningen 30 augustus 2026
DESCRIPTION:Noorderzon Groningen 30 augustus 2026 \nBeleef deze zomer de magie van het Noorderplantsoen tijdens Noorderzon in Groningen. Geniet van sfeervol theater\, bijzondere muziek en gezellige terrassen en foodtrucks. \nOf je nu komt voor cultuur of gewoon een fijne avond uit\, Noorderzon biedt gezelligheid en vermaak voor iedereen \nKortom\, perfecte ingrediënten voor een leuke zomeravond. \nWe verzamelen om 14.00 bij cafe de Bres of op een ander tijdstip samen te bepalen in de chat. \nLet op: Single Meet Single is initiatiefnemer van deze activiteit maar is hier zelf niet bij aanwezig. In de chat onder deze activiteit heb je de gelegenheid om zaken af te stemmen met andere deelnemers. \nZelf een activiteit organiseren? Zie hier hoe eenvoudig dit gaat:  https://singlemeetsingle.nl/organizer/ \nDit is een activiteit met een beperkt aantal deelnemers. Deelname is geheel op eigen risico\, zie ook onze algemene voorwaarden!
URL:https://singlemeetsingle.nl/activiteit/noorderzon-groningen-30-augustus-2026/
LOCATION:Noorderplantsoen\, Kerklaan 1\, Groningen\, Groningen\, 9717 HA\, Netherlands
CATEGORIES:Kunst en cultuur,Uit eten en borrelen
ATTACH;FMTTYPE=image/jpeg:https://singlemeetsingle.nl/wp-content/uploads/2026/04/Noorderzon.jpg
GEO:53.2237914;6.5535371
X-APPLE-STRUCTURED-LOCATION;VALUE=URI;X-ADDRESS=Noorderplantsoen Kerklaan 1 Groningen Groningen 9717 HA Netherlands;X-APPLE-RADIUS=500;X-TITLE=Kerklaan 1:geo:6.5535371,53.2237914
END:VEVENT
END:VCALENDAR