
BEGIN:VCALENDAR
VERSION:2.0
PRODID:-//Single-Meet-Single - ECPv6.2.2//NONSGML v1.0//EN
CALSCALE:GREGORIAN
METHOD:PUBLISH
X-ORIGINAL-URL:https://singlemeetsingle.nl
X-WR-CALDESC:Evenementen voor Single-Meet-Single
REFRESH-INTERVAL;VALUE=DURATION:PT1H
X-Robots-Tag:noindex
X-PUBLISHED-TTL:PT1H
BEGIN:VTIMEZONE
TZID:Europe/Helsinki
BEGIN:DAYLIGHT
TZOFFSETFROM:+0200
TZOFFSETTO:+0300
TZNAME:EEST
DTSTART:20260329T010000
END:DAYLIGHT
BEGIN:STANDARD
TZOFFSETFROM:+0300
TZOFFSETTO:+0200
TZNAME:EET
DTSTART:20261025T010000
END:STANDARD
END:VTIMEZONE
BEGIN:VEVENT
DTSTART;TZID=Europe/Helsinki:20260822T140000
DTEND;TZID=Europe/Helsinki:20260822T230000
DTSTAMP:20260421T161107
CREATED:20260416T125807Z
LAST-MODIFIED:20260419T130214Z
UID:10000197-1787407200-1787439600@singlemeetsingle.nl
SUMMARY:Tapt Festival Leeuwarden 22 augustus 2026
DESCRIPTION:Tapt Festival Leeuwarden 22 augustus 2026 \nLEEUWWARDEN – het is eindelijk zo ver: deze zomer komen we voor de allereerste keer naar jullie toe! Op 22 augustus nemen we het Oldehoofsterkerkhof over om er één groot borrelfestival van te maken. Zien we jullie daar?! \nDe TAPT-formule is simpel: eten\, drinken\, dansen\, spelen. Van meeblèren tijdens de altijd populaire Disco Bingo tot op zoek gaan naar jouw borrelmaatje tijdens het speeddaten: er is voor ieder wat wils. Je start rustig in het zonnetje met een drankje\, een spelletje en goed eten\, en eindigt (per ongeluk) met een verloren stem vooraan op de dansvloer. \nKortom\, perfecte ingrediënten voor een leuk dagje weg. \nWe spreken af om 14.00 uur bij de ingang. \nTickets: Tapt Festival Leeuwarden 22 augustus 2026 \n \nLet op: Single Meet Single is initiatiefnemer van deze activiteit maar is hier zelf niet bij aanwezig. In de chat onder deze activiteit heb je de gelegenheid om zaken af te stemmen met andere deelnemers. \nZelf een activiteit organiseren? Zie hier hoe eenvoudig dit gaat:  https://singlemeetsingle.nl/organizer/ \nDit is een activiteit met een beperkt aantal deelnemers. Deelname is geheel op eigen risico\, zie ook onze algemene voorwaarden!
URL:https://singlemeetsingle.nl/activiteit/tapt-festival-leeuwarden-22-augustus-2026/
LOCATION:Tapt Festival Leeuwarden\, Oldehoofsterkerkhof 3\, Leeuwarden\, 8911 DM
CATEGORIES:Kunst en cultuur,Uit eten en borrelen
ATTACH;FMTTYPE=image/jpeg:https://singlemeetsingle.nl/wp-content/uploads/2026/04/tapt-festival-2.jpg
GEO:53.2028294;5.7902466
X-APPLE-STRUCTURED-LOCATION;VALUE=URI;X-ADDRESS=Tapt Festival Leeuwarden Oldehoofsterkerkhof 3 Leeuwarden 8911 DM;X-APPLE-RADIUS=500;X-TITLE=Oldehoofsterkerkhof 3:geo:5.7902466,53.2028294
END:VEVENT
END:VCALENDAR