
BEGIN:VCALENDAR
VERSION:2.0
PRODID:-//Single-Meet-Single - ECPv6.2.2//NONSGML v1.0//EN
CALSCALE:GREGORIAN
METHOD:PUBLISH
X-ORIGINAL-URL:https://singlemeetsingle.nl
X-WR-CALDESC:Evenementen voor Single-Meet-Single
REFRESH-INTERVAL;VALUE=DURATION:PT1H
X-Robots-Tag:noindex
X-PUBLISHED-TTL:PT1H
BEGIN:VTIMEZONE
TZID:Europe/Helsinki
BEGIN:DAYLIGHT
TZOFFSETFROM:+0200
TZOFFSETTO:+0300
TZNAME:EEST
DTSTART:20260329T010000
END:DAYLIGHT
BEGIN:STANDARD
TZOFFSETFROM:+0300
TZOFFSETTO:+0200
TZNAME:EET
DTSTART:20261025T010000
END:STANDARD
END:VTIMEZONE
BEGIN:VEVENT
DTSTART;TZID=Europe/Helsinki:20260510T150000
DTEND;TZID=Europe/Helsinki:20260510T170000
DTSTAMP:20260420T121226
CREATED:20260417T145033Z
LAST-MODIFIED:20260417T150153Z
UID:10000200-1778425200-1778432400@singlemeetsingle.nl
SUMMARY:Sterrenbos live Groningen 10 mei 2026
DESCRIPTION:Sterrenbos live Groningen 10 mei 2026 \n\nSterrebos Live organiseert live muziek! Hier kun je elke tweede zondag van de maand genieten van openluchtconcerten in het Sterrebos. De toegang is gratis en je kunt je eigen eten meenemen of ter plekke een snack of drankje kopen! De aftrap is op zondag 10 mei met Steernvanger (‘Sterrenvanger’) en Gimme Shelter \nSteernvanger (‘Sterrenvanger’)Dat is feelgood folk en soms bijna country. En dat in het Gronings! Door de persoonlijke teksten\, de sterke samenzang en de vaak vrolijke\, soms ontroerende nummers\, neemt Steernvanger je op enthousiaste wijze mee in hun muzikale vondsten en verhalen. Het plezier waarmee de mannen op het podium staan is aanstekelijk. Je krijgt de neiging mee te zingen\, ook als je de teksten niet verstaat. Zanger Dion licht de nummers in het Nederlands toe zodat je je altijd mee kunt laten voeren. Steernvanger timmert aan de weg en trad onder meer op tijdens Eurosonic Noorderslag\, Noorderzon\, Bevrijdingsfestival Groningen\, Drènts Liedtiesfestival\, EchtErik Festival (Martiniplaza)\, Dag van de Grunneger toal (Forum)\, het Ede Staal Muziekfestival. \nGimme Shelter De beste Rolling Stones Coverband Van Nederland\, zo wordt deze coverband uit Emmen vaak genoemd.\nDe band brengt de Stones-nummers met veel passie en gedrevenheid. Frontman Robert van der Lippe kruipt daarbij in de huid van Mick Jagger. De band laat ook zien en horen hoeveel stijlen de Stones zich eigen hebben gemaakt\, zonder hun specifieke geluid te verliezen. Dat houdt het voor de muzikanten en het publiek interessant om steeds weer naar de optredens te gaan van de ‘Greatest Rock’n roll band’. Gimme Shelter speelt met gepassioneerde en zeer bekwame muzikanten die van elk optreden een verrassend en swingend feest maken. \nPraktische informatie: \n\n\nWe spreken af om 15.00 uur bij de ingang Herenweg\nGratis toegang\n\nLet op: Single Meet Single is initiatiefnemer van deze activiteit maar is hier zelf niet bij aanwezig. In de chat onder deze activiteit heb je de gelegenheid om zaken af te stemmen met andere deelnemers. \nZelf een activiteit organiseren? Zie hier hoe eenvoudig dit gaat:  https://singlemeetsingle.nl/organizer/ \nDit is een activiteit met een beperkt aantal deelnemers. Deelname is geheel op eigen risico\, zie ook onze algemene voorwaarden!
URL:https://singlemeetsingle.nl/activiteit/sterrenbos-live-groningen-10-mei-2026/
LOCATION:Sterrenbos Goningen\, Hereweg 91\, Groningen\, 9721 AA
CATEGORIES:Dansen en uitgaan
ATTACH;FMTTYPE=image/jpeg:https://singlemeetsingle.nl/wp-content/uploads/2026/04/sterrenbos-live.jpg
GEO:53.2044798;6.5739068
X-APPLE-STRUCTURED-LOCATION;VALUE=URI;X-ADDRESS=Sterrenbos Goningen Hereweg 91 Groningen 9721 AA;X-APPLE-RADIUS=500;X-TITLE=Hereweg 91:geo:6.5739068,53.2044798
END:VEVENT
END:VCALENDAR