
BEGIN:VCALENDAR
VERSION:2.0
PRODID:-//Single-Meet-Single - ECPv6.2.2//NONSGML v1.0//EN
CALSCALE:GREGORIAN
METHOD:PUBLISH
X-WR-CALNAME:Single-Meet-Single
X-ORIGINAL-URL:https://singlemeetsingle.nl
X-WR-CALDESC:Evenementen voor Single-Meet-Single
REFRESH-INTERVAL;VALUE=DURATION:PT1H
X-Robots-Tag:noindex
X-PUBLISHED-TTL:PT1H
BEGIN:VTIMEZONE
TZID:Europe/Helsinki
BEGIN:DAYLIGHT
TZOFFSETFROM:+0200
TZOFFSETTO:+0300
TZNAME:EEST
DTSTART:20260329T010000
END:DAYLIGHT
BEGIN:STANDARD
TZOFFSETFROM:+0300
TZOFFSETTO:+0200
TZNAME:EET
DTSTART:20261025T010000
END:STANDARD
END:VTIMEZONE
BEGIN:VEVENT
DTSTART;TZID=Europe/Helsinki:20260426T134500
DTEND;TZID=Europe/Helsinki:20260426T163000
DTSTAMP:20260420T102311
CREATED:20260224T100523Z
LAST-MODIFIED:20260318T160940Z
UID:10000164-1777211100-1777221000@singlemeetsingle.nl
SUMMARY:Wandeling Sneek
DESCRIPTION:Wandeling Sneek \nGa lekker mee op pad tijdens de wandeling in Sneek op Zondag 26 April 2026. \nWe starten om 14.00 bij Restaurant aan de Gracht. \nWandel door Sneek langs de Waterpoort\, sfeervolle grachten en de 11fountains-fontein\, en ontdek hoe water en fortuin al eeuwen het verhaal van de stad bepalen. Wandelroute 11fountains: Sneek | VVV Friesland Zuidwest \nDe route is 3\,1 kilometer \nNa de wandeling is er nog een mogelijkheid om even een drankje te doen op eigen kosten. \nLet op: Single Meet Single is initiatiefnemer van deze activiteit maar is hier zelf niet bij aanwezig. In de chat onder deze activiteit heb je de gelegenheid om zaken af te stemmen met andere deelnemers. \nZelf een activiteit organiseren? Zie hier hoe eenvoudig dit gaat:  https://singlemeetsingle.nl/organizer/ \nDeelname is geheel op eigen risico\, zie ook onze algemene voorwaarden! \n\n 
URL:https://singlemeetsingle.nl/activiteit/wandeling-sneek/
LOCATION:Restaurant aan de Gracht\, Grootzand 4\, Sneek\, 8601 AW\, Netherlands
CATEGORIES:Wandelen en Fietsen
ATTACH;FMTTYPE=image/jpeg:https://singlemeetsingle.nl/wp-content/uploads/2026/02/fietsen.jpg
GEO:53.0320235;5.6615738
X-APPLE-STRUCTURED-LOCATION;VALUE=URI;X-ADDRESS=Restaurant aan de Gracht Grootzand 4 Sneek 8601 AW Netherlands;X-APPLE-RADIUS=500;X-TITLE=Grootzand 4:geo:5.6615738,53.0320235
END:VEVENT
END:VCALENDAR