
BEGIN:VCALENDAR
VERSION:2.0
PRODID:-//Single-Meet-Single - ECPv6.2.2//NONSGML v1.0//EN
CALSCALE:GREGORIAN
METHOD:PUBLISH
X-WR-CALNAME:Single-Meet-Single
X-ORIGINAL-URL:https://singlemeetsingle.nl
X-WR-CALDESC:Evenementen voor Single-Meet-Single
REFRESH-INTERVAL;VALUE=DURATION:PT1H
X-Robots-Tag:noindex
X-PUBLISHED-TTL:PT1H
BEGIN:VTIMEZONE
TZID:Europe/Helsinki
BEGIN:DAYLIGHT
TZOFFSETFROM:+0200
TZOFFSETTO:+0300
TZNAME:EEST
DTSTART:20260329T010000
END:DAYLIGHT
BEGIN:STANDARD
TZOFFSETFROM:+0300
TZOFFSETTO:+0200
TZNAME:EET
DTSTART:20261025T010000
END:STANDARD
END:VTIMEZONE
BEGIN:VEVENT
DTSTART;TZID=Europe/Helsinki:20260524T130000
DTEND;TZID=Europe/Helsinki:20260524T170000
DTSTAMP:20260421T125515
CREATED:20260417T110558Z
LAST-MODIFIED:20260417T114634Z
UID:10000198-1779627600-1779642000@singlemeetsingle.nl
SUMMARY:wandeling Landgoederenroute Dalfsen
DESCRIPTION:wandeling Landgoederenroute Dalfsen 8\,5 km \nOok zin in een bijzondere wandeling midden in de natuur van het Vechtdal? De wandeling Landgoederenroute Dalfsen is een verrassend veelzijdige route over meerdere landgoederen nabij Dalfsen. Deze wandeling van 8\,5 kilometer neemt je mee in de oude historie van Overijssel. \nVoor wie de dag gezellig wil afsluiten is er na afloop de mogelijkheid om samen nog iets te drinken (op eigen kosten) bij het station of in het gezellige dorp Dalfsen. \nPraktische informatie: \n\nVerzamelen om 13:00 uur bij station Dalfsen\nGratis parkeren bij het station\nRoute – oranje pijltjes – 8\,5KM – routekaart\n\nLet op: Single Meet Single is initiatiefnemer van deze activiteit maar is hier zelf niet bij aanwezig. In de chat onder deze activiteit heb je de gelegenheid om zaken af te stemmen met andere deelnemers. \nZelf een activiteit organiseren? Zie hier hoe eenvoudig dit gaat: https://singlemeetsingle.nl/organizer/ \nDeelname is geheel op eigen risico\, zie ook onze algemene voorwaarden! \n 
URL:https://singlemeetsingle.nl/activiteit/wandeling-landgoederenroute-dalfsen/
LOCATION:Grand Café Het Oude Station Dalfsen\, Stationsweg 4\,\, Dalfsen\, 7722 HA
CATEGORIES:Wandelen en Fietsen
ATTACH;FMTTYPE=image/jpeg:https://singlemeetsingle.nl/wp-content/uploads/2026/04/wandeling-Landgoederenroute-Dalfsen.jpg
GEO:52.4983459;6.2596294
X-APPLE-STRUCTURED-LOCATION;VALUE=URI;X-ADDRESS=Grand Café Het Oude Station Dalfsen Stationsweg 4 Dalfsen 7722 HA;X-APPLE-RADIUS=500;X-TITLE=Stationsweg 4\,:geo:6.2596294,52.4983459
END:VEVENT
END:VCALENDAR