
BEGIN:VCALENDAR
VERSION:2.0
PRODID:-//Single-Meet-Single - ECPv6.2.2//NONSGML v1.0//EN
CALSCALE:GREGORIAN
METHOD:PUBLISH
X-WR-CALNAME:Single-Meet-Single
X-ORIGINAL-URL:https://singlemeetsingle.nl
X-WR-CALDESC:Evenementen voor Single-Meet-Single
REFRESH-INTERVAL;VALUE=DURATION:PT1H
X-Robots-Tag:noindex
X-PUBLISHED-TTL:PT1H
BEGIN:VTIMEZONE
TZID:Europe/Helsinki
BEGIN:DAYLIGHT
TZOFFSETFROM:+0200
TZOFFSETTO:+0300
TZNAME:EEST
DTSTART:20260329T010000
END:DAYLIGHT
BEGIN:STANDARD
TZOFFSETFROM:+0300
TZOFFSETTO:+0200
TZNAME:EET
DTSTART:20261025T010000
END:STANDARD
END:VTIMEZONE
BEGIN:VEVENT
DTSTART;TZID=Europe/Helsinki:20260424T170000
DTEND;TZID=Europe/Helsinki:20260424T200000
DTSTAMP:20260420T081847
CREATED:20260224T113108Z
LAST-MODIFIED:20260319T083241Z
UID:10000171-1777050000-1777060800@singlemeetsingle.nl
SUMMARY:Vrijdagmiddagborrel Meppel
DESCRIPTION:Vrijdagmiddagborrel Meppel \nVrijdagmiddag 24 April sluiten we graag de (werk) week met elkaar af doormiddel van een vrijdagmiddagborrel bij Café de Kasteleyn. \nVanaf 17.00 zal de vrijdagmiddagborrel van start gaan! \nLeuk om je te ontmoeten. \nConsumpties zijn voor eigen rekening. \nLet op: Single Meet Single is initiatiefnemer van deze activiteit maar is hier zelf niet bij aanwezig. In de chat onder deze activiteit heb je de gelegenheid om zaken af te stemmen met andere deelnemers. \nZelf een activiteit organiseren? Zie hier hoe eenvoudig dit gaat:  https://singlemeetsingle.nl/organizer/ \nDit is een activiteit met een beperkt aantal deelnemers. Deelname is geheel op eigen risico\, zie ook onze algemene voorwaarden! \n\n 
URL:https://singlemeetsingle.nl/activiteit/vrijdagmiddagborrel-meppel/
LOCATION:Café de Kasteleyn\, Grote Kerkstraat 17\, Meppel\, 7941LA
CATEGORIES:Uit eten en borrelen
ATTACH;FMTTYPE=image/jpeg:https://singlemeetsingle.nl/wp-content/uploads/2026/02/diner.jpg
GEO:51.6936855;4.8721369
X-APPLE-STRUCTURED-LOCATION;VALUE=URI;X-ADDRESS=Café de Kasteleyn Grote Kerkstraat 17 Meppel 7941LA;X-APPLE-RADIUS=500;X-TITLE=Grote Kerkstraat 17:geo:4.8721369,51.6936855
END:VEVENT
END:VCALENDAR