
BEGIN:VCALENDAR
VERSION:2.0
PRODID:-//Single-Meet-Single - ECPv6.2.2//NONSGML v1.0//EN
CALSCALE:GREGORIAN
METHOD:PUBLISH
X-WR-CALNAME:Single-Meet-Single
X-ORIGINAL-URL:https://singlemeetsingle.nl
X-WR-CALDESC:Evenementen voor Single-Meet-Single
REFRESH-INTERVAL;VALUE=DURATION:PT1H
X-Robots-Tag:noindex
X-PUBLISHED-TTL:PT1H
BEGIN:VTIMEZONE
TZID:Europe/Helsinki
BEGIN:DAYLIGHT
TZOFFSETFROM:+0200
TZOFFSETTO:+0300
TZNAME:EEST
DTSTART:20260329T010000
END:DAYLIGHT
BEGIN:STANDARD
TZOFFSETFROM:+0300
TZOFFSETTO:+0200
TZNAME:EET
DTSTART:20261025T010000
END:STANDARD
END:VTIMEZONE
BEGIN:VEVENT
DTSTART;TZID=Europe/Helsinki:20260531T130000
DTEND;TZID=Europe/Helsinki:20260531T170000
DTSTAMP:20260421T125144
CREATED:20260417T131457Z
LAST-MODIFIED:20260417T131457Z
UID:10000199-1780232400-1780246800@singlemeetsingle.nl
SUMMARY:Wandelroute Heuven Beekhuizen Veluwezoom
DESCRIPTION:Wandelroute Heuven Beekhuizen Veluwezoom \nOntdek op deze wandeling de rijke geschiedenis van twee landgoederen: Heuven en Beekhuizen. Je loopt door het bos\, langs waterpartijen en de oever van de Beekhuizense beek. Laat je verrassen door het prachtige licht glooiende lanschap en onverwachte doorkijkjes\, ontmoet IJslandse paarden en wie weet zie je zelfs een ree of een hert. \nNa afloop is er de mogelijkheid om samen nog iets te drinken (op eigen kosten) bij het bezoekerscentrum\, voor wie de dag gezellig wil afsluiten. \nPraktische informatie: \n\nStart – Bezoekerscentrum Veluwezoom – Rheden\nRoute – Rood – 9 km – Klik hier voor de route\nDuur Route 3 uur\,\n\nLet op: Single Meet Single is initiatiefnemer van deze activiteit maar is hier zelf niet bij aanwezig. In de chat onder deze activiteit heb je de gelegenheid om zaken af te stemmen met andere deelnemers. \nZelf een activiteit organiseren? Zie hier hoe eenvoudig dit gaat: https://singlemeetsingle.nl/organizer/ \nDeelname is geheel op eigen risico\, zie ook onze algemene voorwaarden! \n 
URL:https://singlemeetsingle.nl/activiteit/wandelroute-heuven-beekhuizen-veluwezoom/
LOCATION:Bezoekerscentrum Veluwezoom\, Heuvenseweg 5 A\, Rheden\, 6991 JE
CATEGORIES:Wandelen en Fietsen
ATTACH;FMTTYPE=image/jpeg:https://singlemeetsingle.nl/wp-content/uploads/2026/04/Wandelroute-Heuven-Beekhuizen-Veluwezoom.jpg
GEO:52.0157901;6.0249292
X-APPLE-STRUCTURED-LOCATION;VALUE=URI;X-ADDRESS=Bezoekerscentrum Veluwezoom Heuvenseweg 5 A Rheden 6991 JE;X-APPLE-RADIUS=500;X-TITLE=Heuvenseweg 5 A:geo:6.0249292,52.0157901
END:VEVENT
END:VCALENDAR